BEGIN:VCALENDAR
VERSION:2.0
PRODID:-//ESSE Musicbar Winterthur//NONSGML kigkonsult.se iCalcreator 2.41.92//
CALSCALE:GREGORIAN
METHOD:PUBLISH
UID:30303136-3734-4035-b866-646264666465
X-WR-CALNAME:iCagenda
X-WR-CALDESC:Event Management Extension for Joomla!
X-WR-RELCALID:3E26604A-50F4-4449-8B3E-E4F4932D05B5
X-WR-TIMEZONE:Europe/Zurich
BEGIN:VTIMEZONE
TZID:Europe/Zurich
TZUNTIL:20241027T010000Z
BEGIN:STANDARD
TZNAME:CET
DTSTART:20221030T030000
TZOFFSETFROM:+0200
TZOFFSETTO:+0100
RDATE:20231029T030000
END:STANDARD
BEGIN:DAYLIGHT
TZNAME:CEST
DTSTART:20220327T020000
TZOFFSETFROM:+0100
TZOFFSETTO:+0200
RDATE:20230326T020000
RDATE:20240331T020000
END:DAYLIGHT
END:VTIMEZONE
BEGIN:VEVENT
UID:32393630-6661-4263-b066-326131313039
DTSTAMP:20260419T195824Z
CATEGORIES:Blues
CLASS:PUBLIC
DESCRIPTION;ALTREP="CID:<FFFF__=0ABBE548DFE235B58f9e8a93d@coffeebean.com>":
 Gegründet im Jahr 2008\, zählt Jörg Danielsen’s «Vienna Blues Association»
  mittlerweile zu den fixen Grössen der österreichischen Bluesszene. Nach u
 nzähligen Auftritten mit wechselnden Formationen und Gästen brachte die Ba
 nd rund um Jörg Danielsen im Jahr 2016 das Debütalbum «Vienna Blues Associ
 ation» auf den Markt. Geprägt vom Blues der 60-er bis hin zu den 90-ern de
 ckt das Power-Trio eine breite Stilpalette ab.\nIhre Spielfreude und Energ
 ie auf der Bühne\, sowie die dadurch resultierenden freien Jam Passagen la
 ssen jedes Zuhörerherz höherschlagen und selbst eingefleischte Sitzkonzert
 fans das Tanzbein wippen. Das aktuelle Album\, «Guess who’s got the blues»
 \, wurde mit der «Vienna Blues Association» in der Schweiz aufgenommen. Es
  ist\, wie bereits das Vorgängeralbum\, vom legendären Label „Wolf Records
  International“ veröffentlicht worden.\nJörg Danielsen (g\, voc)\, Florian
  Faltner (b)\, Christoph Karas (dr)\nhttps://www.bluesassociation.com
DTSTART:20221117T191500Z
DTEND:20221117T191500Z
GEO:00;0
LOCATION:
ORGANIZER:
SEQUENCE:1
SUMMARY:Jörg Danielsen’s Vienna Blues Association
TRANSP:OPAQUE
URL:https://www.esse.bar/index.php/veranstaltungen/vergangene-veranstaltung
 en/1679-vienna-blues-association-2/2022-11-17-20-15
END:VEVENT
END:VCALENDAR
