BEGIN:VCALENDAR
VERSION:2.0
PRODID:-//ESSE Musicbar Winterthur//NONSGML kigkonsult.se iCalcreator 2.41.92//
CALSCALE:GREGORIAN
METHOD:PUBLISH
UID:33373936-3037-4463-b836-643338333930
X-WR-CALNAME:iCagenda
X-WR-CALDESC:Event Management Extension for Joomla!
X-WR-RELCALID:3E26604A-50F4-4449-8B3E-E4F4932D05B5
X-WR-TIMEZONE:Europe/Zurich
BEGIN:VTIMEZONE
TZID:Europe/Zurich
TZUNTIL:20241027T010000Z
BEGIN:STANDARD
TZNAME:CET
DTSTART:20221030T030000
TZOFFSETFROM:+0200
TZOFFSETTO:+0100
RDATE:20231029T030000
END:STANDARD
BEGIN:DAYLIGHT
TZNAME:CEST
DTSTART:20220327T020000
TZOFFSETFROM:+0100
TZOFFSETTO:+0200
RDATE:20230326T020000
RDATE:20240331T020000
END:DAYLIGHT
END:VTIMEZONE
BEGIN:VEVENT
UID:62326339-3939-4230-b436-346632663738
DTSTAMP:20260419T201000Z
CATEGORIES:Blues
CLASS:PUBLIC
DESCRIPTION;ALTREP="CID:<FFFF__=0ABBE548DFE235B58f9e8a93d@coffeebean.com>":
 «Acoustic Blues Drifter» spielen amerikanische Folksmusik von Blues bis zu
  Bluegrass aus alten wie auch neuen Zeiten und verstehen es\, durch origin
 elle Eigenkompositionen neue Wege zu gehen und diesen ursprünglichen Musik
 stilen eine eigene Note zu geben.\nNach den ersten beiden CDs von 2014 («D
 rink That...») und 2017 («Stripped To The Bone») haben die beiden im 2022 
 in den Bergen ein Doppelalbum mit dem Namen «Blue &amp\; Green» aufgenomme
 n. Es bietet eine geschmackvolle Mischung aus Blues-\, Folk- und Bluegrass
 -Songs sowie eigenen Kompositionen.\nDie Markenzeichen von «Acoustic Blues
  Drifter»\, die beiden Stimmen\, das virtuose Zusammenspiel der Instrument
 e und die harmonischen Zweigesänge\, sind die Essenz der alten wie auch de
 s neuen Albums - ein kompakter\, luftiger Sound mit Bluesharp\, Gitarre\, 
 Gesang und Percussion. Bei der CD-Taufe bei uns in der ESSE in Winterthur 
 haben sie mit John Uhlenhopp (Vocals\, Mandoline) auch noch einen wunderba
 ren Gast dabei!\nWalter Baumgartner (harp\, voc)\, Joe Schwach (g\, voc)Sp
 ecial Guest: John Uhlenhopp (voc\, mand)\nhttps://www.walterbaumgartner.ch
 /bandprojekte/acoustic-blues-drifter/acoustic-blues-drifter.html
DTSTART:20221118T191500Z
DTEND:20221118T191500Z
GEO:00;0
LOCATION:
ORGANIZER:
SEQUENCE:1
SUMMARY:Acoustic Blues Drifter – «Blue & Green» CD-Taufe
TRANSP:OPAQUE
URL:https://www.esse.bar/index.php/veranstaltungen/vergangene-veranstaltung
 en/1680-acoustic-blues-drifter-blue-green-cd-taufe/2022-11-18-20-15
END:VEVENT
END:VCALENDAR
