BEGIN:VCALENDAR
VERSION:2.0
PRODID:-//ESSE Musicbar Winterthur//NONSGML kigkonsult.se iCalcreator 2.41.92//
CALSCALE:GREGORIAN
METHOD:PUBLISH
UID:32623430-3735-4564-a665-333835646439
X-WR-CALNAME:iCagenda
X-WR-CALDESC:Event Management Extension for Joomla!
X-WR-RELCALID:3E26604A-50F4-4449-8B3E-E4F4932D05B5
X-WR-TIMEZONE:Europe/Zurich
BEGIN:VTIMEZONE
TZID:Europe/Zurich
TZUNTIL:20240331T010000Z
BEGIN:STANDARD
TZNAME:CET
DTSTART:20211031T030000
TZOFFSETFROM:+0200
TZOFFSETTO:+0100
RDATE:20221030T030000
RDATE:20231029T030000
END:STANDARD
BEGIN:DAYLIGHT
TZNAME:CEST
DTSTART:20220327T020000
TZOFFSETFROM:+0100
TZOFFSETTO:+0200
RDATE:20230326T020000
END:DAYLIGHT
END:VTIMEZONE
BEGIN:VEVENT
UID:61623538-3561-4634-a433-323466653736
DTSTAMP:20260419T213019Z
CATEGORIES:Folk & More
CLASS:PUBLIC
DESCRIPTION;ALTREP="CID:<FFFF__=0ABBE548DFE235B58f9e8a93d@coffeebean.com>":
 Die Effretikerin Eva Pearlman hat ihr ganzes Wesen der Musik verschrieben.
  Das Singen ist ihre grosse Leidenschaft\, die sie sich zum Beruf gemacht 
 hat. Im Juli 2009 schloss sie ihr Musikstudium am WIAM (Winterthur) erfolg
 reich ab. Sie ist Frontfrau verschiedener Bands und mag von Funk über Blue
 s\, Jazz\, Soul bis hin zum Pop-Rock alles. Die energiegeladene Sängerin s
 chreibt eigene Songs und hat auch schon mehrere CDs produziert.\nBei uns i
 n der ESSE ist schon mit den verschiedensten Formationen aufgetreten\, z.B
 . dem Quartett «Eva»\, als «Maverick Sisters» oder – erst kürzlich – dem n
 euesten Projekt «RubyGEM».\nJetzt bietet sich Gelegenheit\, Eva einmal pur
  zu erleben. Sie begleitet sich am Flügel und bietet dabei selbstverständl
 ich ihre gewohnte Stilvielfalt. Zu hören gibt es neben verschiedenen Eigen
 kompositionen auch ausgewählte Covers.\nEva Pearlman (voc\, p\, perc)\nwww
 .eva-music.ch
DTSTART:20220918T173000Z
DTEND:20220918T173000Z
GEO:00;0
LOCATION:
ORGANIZER:
SEQUENCE:1
SUMMARY:Eva Pearlman – Solo
TRANSP:OPAQUE
URL:https://www.esse.bar/index.php/veranstaltungen/vergangene-veranstaltung
 en/1682-eva-pearlman-solo/2022-09-18-19-30
END:VEVENT
END:VCALENDAR
