BEGIN:VCALENDAR
VERSION:2.0
PRODID:-//ESSE Musicbar Winterthur//NONSGML kigkonsult.se iCalcreator 2.41.92//
CALSCALE:GREGORIAN
METHOD:PUBLISH
UID:64393761-3765-4334-b363-333130663064
X-WR-CALNAME:iCagenda
X-WR-CALDESC:Event Management Extension for Joomla!
X-WR-RELCALID:3E26604A-50F4-4449-8B3E-E4F4932D05B5
X-WR-TIMEZONE:Europe/Zurich
BEGIN:VTIMEZONE
TZID:Europe/Zurich
TZUNTIL:20241027T010000Z
BEGIN:STANDARD
TZNAME:CET
DTSTART:20221030T030000
TZOFFSETFROM:+0200
TZOFFSETTO:+0100
RDATE:20231029T030000
END:STANDARD
BEGIN:DAYLIGHT
TZNAME:CEST
DTSTART:20220327T020000
TZOFFSETFROM:+0100
TZOFFSETTO:+0200
RDATE:20230326T020000
RDATE:20240331T020000
END:DAYLIGHT
END:VTIMEZONE
BEGIN:VEVENT
UID:30323838-3236-4766-b861-633663646639
DTSTAMP:20260419T195735Z
CATEGORIES:Jazz
CLASS:PUBLIC
DESCRIPTION;ALTREP="CID:<FFFF__=0ABBE548DFE235B58f9e8a93d@coffeebean.com>":
 «Trois Imaginaires» setzen auch auf ihrer neuen Platte «Collectifs» auf ei
 ne klassische Jazz-Rock-Formation mit E-Gitarre\, E-Bass und Schlagzeug. D
 as Trio zeichnet sich durch ein virtuoses und differenziertes Spiel auf de
 r Fender Jazzmaster Gitarre (Anatole Bucchella) aus\, getragen von soliden
  Basslinien (Pino Zortea) und einem präsenten Schlagzeugspiel (Samir Böhri
 nger). Die Gitarre gibt die Melodie und Grundstimmung vor\, driftet gerne 
 auch einmal ab oder schraubt sich virtuos in höchste Höhen. Das Schlagzeug
  wirbelt mit\, treibt voran\, drückt aufs Gaspedal\, während der Bass die 
 nötige Ruhe bewahrt und mit seinem soliden Fundament die Höhenflüge der Mu
 siker erst ermöglicht.\n«Trois Imaginaires» bezeichnen ihren Stil als 'cin
 eastischen Post-Rock mit einem Hauch Pop-Kultur'. Auch die Begriffe 'Manga
 -Jazz' und 'Geek-Rock' finden Verwendung. Der Sound knüpft an den Surf-Roc
 k der 1960er\, die Hippie-Musik der 1970er und den Synth-Wave der 1980er a
 n. Das erfrischende an der Band liegt in der verspielten Art\, wie sie ihr
 en Jazz-Rock spielen. Die Instrumente werden wie ein Game-Boy zu einem nos
 talgischen\, aber dennoch unterhaltsamen Spielzeug\, an dem Könnerschaft u
 nd Spass gleichermassen zum Zug kommen. Im besten Fall schaffen sie es woh
 l sogar\, so zwischen den Generationen vermitteln.\nAnatole Bucchella (g)\
 , Pino Zortea (b)\, Samir Böhringer (dr)\nhttps://www.anatolebuccella.com
DTSTART:20221124T191500Z
DTEND:20221124T191500Z
GEO:00;0
LOCATION:
ORGANIZER:
SEQUENCE:1
SUMMARY:Trois Imaginaires – «Collectifs»
TRANSP:OPAQUE
URL:https://www.esse.bar/index.php/veranstaltungen/vergangene-veranstaltung
 en/1684-trois-imaginaires-2/2022-11-24-20-15
END:VEVENT
END:VCALENDAR
