BEGIN:VCALENDAR
VERSION:2.0
PRODID:-//ESSE Musicbar Winterthur//NONSGML kigkonsult.se iCalcreator 2.41.92//
CALSCALE:GREGORIAN
METHOD:PUBLISH
UID:33356262-3533-4365-a234-666539623635
X-WR-CALNAME:iCagenda
X-WR-CALDESC:Event Management Extension for Joomla!
X-WR-RELCALID:3E26604A-50F4-4449-8B3E-E4F4932D05B5
X-WR-TIMEZONE:Europe/Zurich
BEGIN:VTIMEZONE
TZID:Europe/Zurich
TZUNTIL:20241027T010000Z
BEGIN:STANDARD
TZNAME:CET
DTSTART:20221030T030000
TZOFFSETFROM:+0200
TZOFFSETTO:+0100
RDATE:20231029T030000
END:STANDARD
BEGIN:DAYLIGHT
TZNAME:CEST
DTSTART:20220327T020000
TZOFFSETFROM:+0100
TZOFFSETTO:+0200
RDATE:20230326T020000
RDATE:20240331T020000
END:DAYLIGHT
END:VTIMEZONE
BEGIN:VEVENT
UID:32316131-3533-4461-a163-316239396334
DTSTAMP:20260419T200038Z
CATEGORIES:Jazz
CLASS:PUBLIC
DESCRIPTION;ALTREP="CID:<FFFF__=0ABBE548DFE235B58f9e8a93d@coffeebean.com>":
 An diesem Freitagabend wird die ausgefallene\, zehnte Folge der Reihe «Don
 ’t Forget The Poets» mit dem Thema «Poetas do Brasil» nachgeholt. Christia
 n Rösli (p) und Andreas Zitz (db) nehmen sich dem grossen brasilianischen 
 Komponisten an. Dies bezieht sich auf die sogenannte Populärmusik MPB (mús
 ica popular brasileira)\, die fast alle brasilianischen Musikstile eint\, 
 ausser der Klassik. Am bekanntesten sind Samba\, Bossa Nova\, Samba-Reggae
 \, Musik aus dem Nordosten Brasiliens und die Lieder der afrobrasilianisch
 en Religionen (candomblé). Eine Besonderheit der MPB gegenüber nordamerika
 nischer und europäischer Popmusik ist\, dass sie keine reine Jugendkultur 
 ist\, sondern von allen Altersschichten gehört wird.\nFür ihren Brasil-Abe
 nd konnten Rösli und Zitz die Sängerin Jenny Chi begeistern. Die Schweizer
 in chinesischer Herkunft entdeckte den Bossa Nova Anfang der Neunzigerjahr
 e erstmals in der Schallplattensammlung ihres Vaters. Von da an war sie di
 esem Stil Rio de Janeiros der 50er-Jahre verfallen\, lebte in Brasilien un
 d nahm Unterricht in Gesang und Perkussion in Rio und São Paulo. Als Leads
 ängerin trat Jenny Chi über die Jahre in zahlreichen Formationen in der Sc
 hweiz\, Italien und Brasilien auf\, vor allem mit ihrer eigenen Band ChiBo
 ssa.\nWeiter wird das Trio durch den ebenfalls Brasil-afinen Schlagzeuger 
 Pius Baschnagel verstärkt.\nJenny Chi (voc)\, Christian Rösli (p)\, Andrea
 s Zitz (db)\, Pius Baschnagel (dr)\nhttps://www.jennychi.chhttps://andreas
 zitz.chhttps://www.piusbaschnagel.com
DTSTART:20221125T191500Z
DTEND:20221125T191500Z
GEO:00;0
LOCATION:
ORGANIZER:
SEQUENCE:1
SUMMARY:Don’t Forget The Poets #10 – «Poetas do Brasil»
TRANSP:OPAQUE
URL:https://www.esse.bar/index.php/veranstaltungen/vergangene-veranstaltung
 en/1685-don-t-forget-the-poets-3/2022-11-25-20-15
END:VEVENT
END:VCALENDAR
