BEGIN:VCALENDAR
VERSION:2.0
PRODID:-//ESSE Musicbar Winterthur//NONSGML kigkonsult.se iCalcreator 2.41.92//
CALSCALE:GREGORIAN
METHOD:PUBLISH
UID:32303934-6230-4866-a361-663566333366
X-WR-CALNAME:iCagenda
X-WR-CALDESC:Event Management Extension for Joomla!
X-WR-RELCALID:3E26604A-50F4-4449-8B3E-E4F4932D05B5
X-WR-TIMEZONE:Europe/Zurich
BEGIN:VTIMEZONE
TZID:Europe/Zurich
TZUNTIL:20241027T010000Z
BEGIN:STANDARD
TZNAME:CET
DTSTART:20221030T030000
TZOFFSETFROM:+0200
TZOFFSETTO:+0100
RDATE:20231029T030000
END:STANDARD
BEGIN:DAYLIGHT
TZNAME:CEST
DTSTART:20220327T020000
TZOFFSETFROM:+0100
TZOFFSETTO:+0200
RDATE:20230326T020000
RDATE:20240331T020000
END:DAYLIGHT
END:VTIMEZONE
BEGIN:VEVENT
UID:35356161-3233-4632-b462-363465623165
DTSTAMP:20260419T181550Z
CATEGORIES:Jazz Jam Point Session
CLASS:PUBLIC
DESCRIPTION;ALTREP="CID:<FFFF__=0ABBE548DFE235B58f9e8a93d@coffeebean.com>":
 Musiker:innen\, die mitjamen möchten melden sich direkt bei Richard Schmie
 d rschmied(at)bluewin.ch | Telefon 044-869 42 32 – mobil 079-433 76 33\nAn
 lässlich der sechsten und letzten Session des Jahres werden als 'special g
 uests' Repräsentanten aus der Organisation\nhttps://swissjazzorama.ch/#3 i
 n Uster\, dem einzigen öffentlichen Jazz-Archiv der Schweiz\nzu Gast sein.
  Der Schlagzeuger Fernand Schlumpf wird als Vizepräsident des «Swissjazzor
 ma» die Organisation kurz vorstellen und wir werden anhand eines Tonbeispi
 els die unterschiedliche Interpretation des gleichen Jazzstandards von heu
 te gegenüber den 1920er-Jahren erleben.\nAls zweiten Gast aus Uster erwart
 en wir den Posaunisten Bernhard Bamert\, der heute als Berufsmusiker in di
 versen bekannten Schweizer Jazzformationen tätig ist und u.a. als Dozent f
 ür Jazzposaune an der Zürcher Hochschule der Künste und an der Swiss Jazz 
 School in Bern arbeitet.\nDie beiden Musiker aus Uster werden zusammen mit
  der Jam-Point-Group den Abend eröffnen und anschliessend in der offenen J
 amsession mit den anwesenden Musikern:innen jammen was das Zeug hält.Zudem
  werden weitere Gäste aus der näheren und weiteren Umgebung erwartet\; die
  Liste wird auf der «Jam-Point»-Website laufend nach Eingang der Anmeldung
 en nachgeführt.\nSelbstverständlich sind\, wie bei unseren bisherigen Sess
 ions\, auch spontan entschlossene Jazzer:innen herzlich eingeladen\, die I
 nstrumente und natürlich auch die Stimme(!) mitzubringen. Bitte kommt alle
 \, es wird in kleinen regelmässig wechselnden Formationen zum Vergnügen de
 s Publikums gejammt. Es werden alle zum Spielen kommen. Wir freuen uns auf
  Euch.\nWeb TV Züri hat übrigens die letzte Jam-Session live gestreamt. Di
 e Auftritte können auf dem «Youtube»-Kanal angesehen und gehört werden:htt
 p://www.jam-point.ch/Agenda.html\nDie Jam Point Group: Richi Schmied (tp\,
  flh)\, Bruno Bosshardt (cl\, s)\, Elmar Kluth (p)\, Timon Roth (b)\, Bern
 ie Ruch (dr)Guests: Fernand Schlumpf (dr)\, Bernhard Bamert (tb)\, Philipp
 e Chrétien (ts)\, Georges Suter (bs)\nhttp://www.jam-point.ch
DTSTART:20221130T191500Z
DTEND:20221130T191500Z
GEO:00;0
LOCATION:
ORGANIZER:
SEQUENCE:1
SUMMARY:Jam Point Session #06
TRANSP:OPAQUE
URL:https://www.esse.bar/index.php/veranstaltungen/vergangene-veranstaltung
 en/1686-jam-point-session-5/2022-11-30-20-15
END:VEVENT
END:VCALENDAR
