BEGIN:VCALENDAR
VERSION:2.0
PRODID:-//ESSE Musicbar Winterthur//NONSGML kigkonsult.se iCalcreator 2.41.92//
CALSCALE:GREGORIAN
METHOD:PUBLISH
UID:33626636-6164-4164-b662-326163643463
X-WR-CALNAME:iCagenda
X-WR-CALDESC:Event Management Extension for Joomla!
X-WR-RELCALID:3E26604A-50F4-4449-8B3E-E4F4932D05B5
X-WR-TIMEZONE:Europe/Zurich
BEGIN:VTIMEZONE
TZID:Europe/Zurich
TZUNTIL:20241027T010000Z
BEGIN:STANDARD
TZNAME:CET
DTSTART:20221030T030000
TZOFFSETFROM:+0200
TZOFFSETTO:+0100
RDATE:20231029T030000
END:STANDARD
BEGIN:DAYLIGHT
TZNAME:CEST
DTSTART:20220327T020000
TZOFFSETFROM:+0100
TZOFFSETTO:+0200
RDATE:20230326T020000
RDATE:20240331T020000
END:DAYLIGHT
END:VTIMEZONE
BEGIN:VEVENT
UID:32306661-3164-4362-a466-643838636564
DTSTAMP:20260419T182254Z
CATEGORIES:Folk & More
CLASS:PUBLIC
DESCRIPTION;ALTREP="CID:<FFFF__=0ABBE548DFE235B58f9e8a93d@coffeebean.com>":
 Die Band „The Wallbanger &amp\; Sacchetti' aus Frauenfeld steht\, wie der 
 namensgebende erfrischende Cocktail\, für fetzigen\, jazzig angehauchten S
 ound\, verfeinert mit einem Schuss Pop und Blues.\nDas bereits seit 1983 b
 estehende Trio mit Dandy Meier am Piano\, Billy Schmid am Schlagzeug und W
 alo Gröbli am Bass wird seit mehreren Jahren durch die markante und mitrei
 ssende Stimme von Marco Sacchetti verstärkt.\nMarco Sacchetti (voc)\, Dand
 y Meier (p)\, Walo Gröbli (db)\, Billy Schmid (dr)
DTSTART:20221203T191500Z
DTEND:20221203T191500Z
GEO:00;0
LOCATION:
ORGANIZER:
SEQUENCE:1
SUMMARY:The Wallbanger & Sacchetti – Blues\, Swing & Latin
TRANSP:OPAQUE
URL:https://www.esse.bar/index.php/veranstaltungen/vergangene-veranstaltung
 en/1688-the-wallbangers-sacchetti/2022-12-03-20-15
END:VEVENT
END:VCALENDAR
