BEGIN:VCALENDAR
VERSION:2.0
PRODID:-//ESSE Musicbar Winterthur//NONSGML kigkonsult.se iCalcreator 2.41.92//
CALSCALE:GREGORIAN
METHOD:PUBLISH
UID:37653063-6238-4232-b138-333336623264
X-WR-CALNAME:iCagenda
X-WR-CALDESC:Event Management Extension for Joomla!
X-WR-RELCALID:3E26604A-50F4-4449-8B3E-E4F4932D05B5
X-WR-TIMEZONE:Europe/Zurich
BEGIN:VTIMEZONE
TZID:Europe/Zurich
TZUNTIL:20241027T010000Z
BEGIN:STANDARD
TZNAME:CET
DTSTART:20221030T030000
TZOFFSETFROM:+0200
TZOFFSETTO:+0100
RDATE:20231029T030000
END:STANDARD
BEGIN:DAYLIGHT
TZNAME:CEST
DTSTART:20220327T020000
TZOFFSETFROM:+0100
TZOFFSETTO:+0200
RDATE:20230326T020000
RDATE:20240331T020000
END:DAYLIGHT
END:VTIMEZONE
BEGIN:VEVENT
UID:34666636-6234-4962-b661-323164633137
DTSTAMP:20260419T181457Z
CATEGORIES:Folk & More
CLASS:PUBLIC
DESCRIPTION;ALTREP="CID:<FFFF__=0ABBE548DFE235B58f9e8a93d@coffeebean.com>":
 «Mistral» sind zurück! Das Basler-Quartett bläst mit seinen süffigen Pop-C
 hansons wieder dem Alltagstrott entgegen\, wie der Mistral-Wind – mal sanf
 t und warm\, mal so heftig\, dass sich die Bäume gegen Süden biegen.\nDa k
 ommt ein flottes Tempo auf\, das ist feine Musik. Weder kompliziert noch a
 nstrengend\, weder überambitioniert noch bei den alten Haudegen abgeschaut
 . Apropos Haudegen: Die Band beschreitet mit ihren charmanten\, luftig-lei
 chten Liedern heute geradezu unübliche Wege. Und zwar Wege\, die mittlerwe
 ile auch Barden wie Georges Moustaki\, Joe Dassin und Georges Brassens bes
 chreiten könnten. Dies allerdings nur dann\, wenn die Herren Chansonniers 
 etwas flotten Americana und munteren Folk-Pop mitbekommen würden.\nNun sin
 d die Vier endlich wieder unterwegs um ihre neuen Songs auf möglichst viel
 en Bühnen mit dem Publikum zu teilen. Die Deutschschweizer «Mistral» überw
 inden spielend den Röstigraben und beflügeln das Comeback des Chansons\, d
 as Nouvelle Chanson. C’est si bon!\nMarkus Gisin (voc\, g)\, Andy Tobler (
 g)\, Yves Neuhaus (db\, voc)\, Jana Landolt (dr\, voc)\nhttps://www.mistra
 l-musique.com
DTSTART:20221204T183000Z
DTEND:20221204T183000Z
GEO:00;0
LOCATION:
ORGANIZER:
SEQUENCE:1
SUMMARY:Mistral
TRANSP:OPAQUE
URL:https://www.esse.bar/index.php/veranstaltungen/vergangene-veranstaltung
 en/1689-mistral-2/2022-12-04-19-30
END:VEVENT
END:VCALENDAR
