BEGIN:VCALENDAR
VERSION:2.0
PRODID:-//ESSE Musicbar Winterthur//NONSGML kigkonsult.se iCalcreator 2.41.92//
CALSCALE:GREGORIAN
METHOD:PUBLISH
UID:34326563-3362-4436-b537-633466383862
X-WR-CALNAME:iCagenda
X-WR-CALDESC:Event Management Extension for Joomla!
X-WR-RELCALID:3E26604A-50F4-4449-8B3E-E4F4932D05B5
X-WR-TIMEZONE:Europe/Zurich
BEGIN:VTIMEZONE
TZID:Europe/Zurich
TZUNTIL:20241027T010000Z
BEGIN:STANDARD
TZNAME:CET
DTSTART:20221030T030000
TZOFFSETFROM:+0200
TZOFFSETTO:+0100
RDATE:20231029T030000
END:STANDARD
BEGIN:DAYLIGHT
TZNAME:CEST
DTSTART:20220327T020000
TZOFFSETFROM:+0100
TZOFFSETTO:+0200
RDATE:20230326T020000
RDATE:20240331T020000
END:DAYLIGHT
END:VTIMEZONE
BEGIN:VEVENT
UID:34393435-3264-4466-a537-316337336266
DTSTAMP:20260419T182823Z
CATEGORIES:Jazz
CLASS:PUBLIC
DESCRIPTION;ALTREP="CID:<FFFF__=0ABBE548DFE235B58f9e8a93d@coffeebean.com>":
 Bruno Spoerri ist ein Original und eine der wichtigsten Persönlichkeiten i
 m Jazz und in der elektronischen Musik in der Schweiz. Er gilt als Pionier
 \, Querdenker und Bindeglied verschiedener Szenen. Der 87-jährige Bruno Sp
 oerri war und ist stets aktiv. Seit gut 60 Jahren reist er durch das weite
  Jazz-Universum: von der Cool-Ära der Fünfziger Jahre über den Hard Bop bi
 s hin zur freien Improvisation und eines 'elektrifizierten' Jazz. Bruno Sp
 oerri war Elektroniker der ersten Stunde. Er elektrifizierte das Saxofon u
 nd begann früh die Elektronik auf der Bühne nutzbar zu machen.\nDie beiden
  scheinbar gegensätzlichen Ansätze von Jazz und Elektronik haben mehr geme
 insam\, als es den Anschein hat: Das Spielerische und Improvisatorische\, 
 die Erkundung und Entwicklung einer persönlichen Klangpalette und die Verw
 endung neuer rhythmischer Strukturen sind Teil des Jazz seit seinen Anfäng
 en und tauchen in der elektronischen Musik ganz organisch auf. Mit dem Pia
 nisten Roger Girod hat Spoerri einen Partner gefunden\, der diese beiden S
 eiten mit seinen spontanen Interventionen in einem intensiven interaktiven
  Wechselspiel zu einem Amalgam zu vereinen vermag\, das aus der Sprache de
 s Jazz spricht\, aber auch das Vokabular dieser sich ständig verändernden 
 Musik erweitert. Inmitten dieses Freiraums - zwischen traditionellen Forme
 n und den Möglichkeiten des heutigen digitalen Zeitalters - fühlt sich die
 ses Duo sichtlich wohl\, wie die neue CD-Produktion «In Between» deutlich 
 unterstreicht.\nAn diesem Konzert-Abend gibt es neben Girods und Spoerris 
 Duo-Stücken aus dem neuen Album\, auch die bekannte Sängerin Marianne Raci
 ne als Special Guest zu sehen und zu hören. Als Trio «Racine-Spoerri-Girod
 » agieren sie zwischen dem augenzwinkernd freien Umgang mit dem «Great Ame
 rican Songbook» und elektronischen Sounds\, zwischen Grooves und atmosphär
 ischen Klangbildern und zwischen Sprachen von Züritüütsch bis Schwedisch u
 nd Portugiesisch.\nBruno Spoerri (s\, efx)\, Roger Girod (p\, efx)\, Speci
 al Guest: Marianne Racine (voc)\nhttp://www.computerjazz.chhttp://www.raci
 nevoc.ch
DTSTART:20221207T191500Z
DTEND:20221207T191500Z
GEO:00;0
LOCATION:
ORGANIZER:
SEQUENCE:1
SUMMARY:Bruno Spoerri & Roger Girod feat. Marianne Racine – «In Between»
TRANSP:OPAQUE
URL:https://www.esse.bar/index.php/veranstaltungen/vergangene-veranstaltung
 en/1690-roger-girod-bruno-spoerri-feat-marianne-racine/2022-12-07-20-15
END:VEVENT
END:VCALENDAR
