BEGIN:VCALENDAR
VERSION:2.0
PRODID:-//ESSE Musicbar Winterthur//NONSGML kigkonsult.se iCalcreator 2.41.92//
CALSCALE:GREGORIAN
METHOD:PUBLISH
UID:33333665-3930-4430-a663-386133383366
X-WR-CALNAME:iCagenda
X-WR-CALDESC:Event Management Extension for Joomla!
X-WR-RELCALID:3E26604A-50F4-4449-8B3E-E4F4932D05B5
X-WR-TIMEZONE:Europe/Zurich
BEGIN:VTIMEZONE
TZID:Europe/Zurich
TZUNTIL:20241027T010000Z
BEGIN:STANDARD
TZNAME:CET
DTSTART:20221030T030000
TZOFFSETFROM:+0200
TZOFFSETTO:+0100
RDATE:20231029T030000
END:STANDARD
BEGIN:DAYLIGHT
TZNAME:CEST
DTSTART:20220327T020000
TZOFFSETFROM:+0100
TZOFFSETTO:+0200
RDATE:20230326T020000
RDATE:20240331T020000
END:DAYLIGHT
END:VTIMEZONE
BEGIN:VEVENT
UID:31316262-3461-4162-a532-306132653836
DTSTAMP:20260419T183003Z
CATEGORIES:Folk & More
CLASS:PUBLIC
DESCRIPTION;ALTREP="CID:<FFFF__=0ABBE548DFE235B58f9e8a93d@coffeebean.com>":
 Die Konzerte von Christina Jaccard und David Ruosch sind immer Ausdruck ei
 ner unaufdringlichen Überzeugung und Leidenschaft für das afroamerikanisch
 e Kulturgut. Das Konzert beinhaltet eine Dimension\, die über die religiös
 e Praxis hinaus geht und jedem Menschen etwas Individuelles mitteilen will
 .\nWie immer schlagen sie Brücken von den schwarzen Wurzeln des Gospels bi
 s hin zu Songs\, die möglicherweise noch nie in einem Gospel Konzert Platz
  gefunden haben. Wir lassen uns ein auf die Sphäre einer Welt des offenen 
 und freien Raums\, die Nahrung bietet für Herz und Seele.\nAuch auf der di
 esjährigen Konzert Tour werden Christina Jaccard und Dave Ruosch vom „Blac
 k Earth“ Schlagzeuger und Perkussionisten Willie Jordan aus Ghana begleite
 t. Neu mit dabei ist Daves Bruder Hans-Peter Ruosch\, bekannt als 'Hamp Go
 es Wild' mit Gitarre\, Gesang und an den Tasten.\nDas neue Programm enthäl
 t Songs von Al Green\, Ray Charles\, Billy Preston\, Elvis Presley\, u.v.m
 . Und wie immer werden Brücken geschlagen\, von den schwarzen Wurzeln des 
 Gospels bis hin zu Pop-Songs\, die wohl noch nie in einem Gospel-Konzert z
 u hören waren.\nChristina Jaccard (voc)\, David Ruosch (p\, voc)\, Hans-Pe
 ter Ruosch (g\, voc)\, Willie Jordan (perc)\nwww.voicejaccard.ch
DTSTART:20221208T191500Z
DTEND:20221208T191500Z
GEO:00;0
LOCATION:
ORGANIZER:
SEQUENCE:1
SUMMARY:Christina Jaccard - Gospel & More
TRANSP:OPAQUE
URL:https://www.esse.bar/index.php/veranstaltungen/vergangene-veranstaltung
 en/1691-christina-jaccard-gospel-more/2022-12-08-20-15
END:VEVENT
END:VCALENDAR
