BEGIN:VCALENDAR
VERSION:2.0
PRODID:-//ESSE Musicbar Winterthur//NONSGML kigkonsult.se iCalcreator 2.41.92//
CALSCALE:GREGORIAN
METHOD:PUBLISH
UID:38343964-3934-4364-b532-366335386632
X-WR-CALNAME:iCagenda
X-WR-CALDESC:Event Management Extension for Joomla!
X-WR-RELCALID:3E26604A-50F4-4449-8B3E-E4F4932D05B5
X-WR-TIMEZONE:Europe/Zurich
BEGIN:VTIMEZONE
TZID:Europe/Zurich
TZUNTIL:20241027T010000Z
BEGIN:STANDARD
TZNAME:CET
DTSTART:20221030T030000
TZOFFSETFROM:+0200
TZOFFSETTO:+0100
RDATE:20231029T030000
END:STANDARD
BEGIN:DAYLIGHT
TZNAME:CEST
DTSTART:20220327T020000
TZOFFSETFROM:+0100
TZOFFSETTO:+0200
RDATE:20230326T020000
RDATE:20240331T020000
END:DAYLIGHT
END:VTIMEZONE
BEGIN:VEVENT
UID:65383063-3365-4964-b338-666261663639
DTSTAMP:20260419T182449Z
CATEGORIES:Jazz
CLASS:PUBLIC
DESCRIPTION;ALTREP="CID:<FFFF__=0ABBE548DFE235B58f9e8a93d@coffeebean.com>":
 Die Hammond-Orgel ist und bleibt ein sehr spezielles Instrument: Mit ihren
  Wundertüten-Sounds und fröhlich blubbernden Bassläufen ist sie vor allem 
 aus dem Soul-Jazz nicht wegzudenken. Mit dem Programm «X-Mas Songs» präsen
 tiert der Winterthurer Organist und Pianist Marcel Thomi seine gleichermas
 sen zeitgemässe und zeitlose Variante von Christmas-Songs im «Soul-Jazz»-G
 ewand inklusive Hammond-Power.\nGemeinsam mit dem Saxofonisten Raffaele Lu
 nardi und dem Schlagzeuger Tobias Friedli zelebriert Thomi Versionen von b
 ekannten Weihnachtsklassikern. Ob Jazz\, Funk oder Blues: Stücke wie «Leis
 e rieselt der Schnee» oder «Stille Nacht» werden entstaubt\, seziert\, neu
  zusammengesetzt und in ein buntes Jazzkleid gesteckt. Da steckt kein Kits
 ch und keine Seichtheit drin\, sondern viel Groove\, Spielfreude\, kreativ
 e Arrangierarbeit und musikalischer Humor. Die Melodien kennt man zwar\, a
 ber nicht die Verpackung. Da werden sogar Weihnachtsmuffel positiv gestimm
 t. Raffaele Lunardi (s)\, Marcel Thomi (hammond b3)\, Tobias Friedli (dr)
 \nhttp://www.marcelthomi.chhttp://lunardimusic.ch/musik/marcel-thomis-x-ma
 s-songs/www.tobiasfriedli.ch
DTSTART:20221216T191500Z
DTEND:20221216T191500Z
GEO:00;0
LOCATION:
ORGANIZER:
SEQUENCE:1
SUMMARY:Marcel Thomi’s X-Mas Songs
TRANSP:OPAQUE
URL:https://www.esse.bar/index.php/veranstaltungen/vergangene-veranstaltung
 en/1695-marcel-thomi-s-x-mas-songs-4/2022-12-16-20-15
END:VEVENT
END:VCALENDAR
