BEGIN:VCALENDAR
VERSION:2.0
PRODID:-//ESSE Musicbar Winterthur//NONSGML kigkonsult.se iCalcreator 2.41.92//
CALSCALE:GREGORIAN
METHOD:PUBLISH
UID:31393339-6535-4534-a632-323864386333
X-WR-CALNAME:iCagenda
X-WR-CALDESC:Event Management Extension for Joomla!
X-WR-RELCALID:3E26604A-50F4-4449-8B3E-E4F4932D05B5
X-WR-TIMEZONE:Europe/Zurich
BEGIN:VTIMEZONE
TZID:Europe/Zurich
TZUNTIL:20241027T010000Z
BEGIN:STANDARD
TZNAME:CET
DTSTART:20221030T030000
TZOFFSETFROM:+0200
TZOFFSETTO:+0100
RDATE:20231029T030000
END:STANDARD
BEGIN:DAYLIGHT
TZNAME:CEST
DTSTART:20220327T020000
TZOFFSETFROM:+0100
TZOFFSETTO:+0200
RDATE:20230326T020000
RDATE:20240331T020000
END:DAYLIGHT
END:VTIMEZONE
BEGIN:VEVENT
UID:61373439-6562-4535-b063-623531663232
DTSTAMP:20260419T181719Z
CATEGORIES:Blues
CLASS:PUBLIC
DESCRIPTION;ALTREP="CID:<FFFF__=0ABBE548DFE235B58f9e8a93d@coffeebean.com>":
 Einfach immer wieder gut: Walter Baumgartner\, Sänger\, Blues-Harper und S
 wiss Blues Award Winner 2016 aus der Schweiz und Hannes Kasehs\, Sänger un
 d Saiten-Zauberer aus Oesterreich. Die beiden Vollblutmusiker begeistern b
 ei ihren eher raren gemeinsamen Konzerten mit einer gewaltigen Portion Pow
 er und Spielfreude.\nZusammen spielen sie wunderbare Blues- und Folksongs 
 aus den 1920er bis 1960er-Jahren sowie eigene Kompositionen. Baumgartner u
 nd Kasehs ergänzen sich in ihrem Spiel\, ihrem Gesang und ihrem Wesen wund
 erbar. Das Publikum kommt in den Genuss von ausdruckstark gespielter\, hoc
 hstehender Musik. Die Konzerte werden dank den spontanen Improvisationen v
 on und zwischen den Beiden zu einem richtigen Musikerlebnis – eine abwechs
 lungsreiche Reise durch die Blues- und Folkmusik ist an diesem Konzertaben
 d garantiert.\nWalter Baumgartner (voc\, harp)\, Hannes Kasehs (g\, voc)\n
 https://www.walterbaumgartner.chhttp://www.hanneskasehs.eu
DTSTART:20221218T183000Z
DTEND:20221218T183000Z
GEO:00;0
LOCATION:
ORGANIZER:
SEQUENCE:1
SUMMARY:Walter Baumgartner & Hannes Kasehs
TRANSP:OPAQUE
URL:https://www.esse.bar/index.php/veranstaltungen/vergangene-veranstaltung
 en/1696-walter-baumgartner-hannes-kasehs-2/2022-12-18-19-30
END:VEVENT
END:VCALENDAR
