BEGIN:VCALENDAR
VERSION:2.0
PRODID:-//ESSE Musicbar Winterthur//NONSGML kigkonsult.se iCalcreator 2.41.92//
CALSCALE:GREGORIAN
METHOD:PUBLISH
UID:64646639-3135-4965-b131-393561333130
X-WR-CALNAME:iCagenda
X-WR-CALDESC:Event Management Extension for Joomla!
X-WR-RELCALID:3E26604A-50F4-4449-8B3E-E4F4932D05B5
X-WR-TIMEZONE:Europe/Zurich
BEGIN:VTIMEZONE
TZID:Europe/Zurich
TZUNTIL:20241027T010000Z
BEGIN:STANDARD
TZNAME:CET
DTSTART:20221030T030000
TZOFFSETFROM:+0200
TZOFFSETTO:+0100
RDATE:20231029T030000
END:STANDARD
BEGIN:DAYLIGHT
TZNAME:CEST
DTSTART:20220327T020000
TZOFFSETFROM:+0100
TZOFFSETTO:+0200
RDATE:20230326T020000
RDATE:20240331T020000
END:DAYLIGHT
END:VTIMEZONE
BEGIN:VEVENT
UID:36636663-3931-4430-b231-666530656639
DTSTAMP:20260419T181826Z
CATEGORIES:Jazz
CLASS:PUBLIC
DESCRIPTION;ALTREP="CID:<FFFF__=0ABBE548DFE235B58f9e8a93d@coffeebean.com>":
 Die drei Freigeister vom «Kimm Trio» tragen das Ferne und Sehnsüchtige in 
 ihren Poren und lieben den Tanz auf dem schmalen Grat von songhafter Besee
 ltheit und freier Improvisation. Ihre Musik ist genährt vom Ideenreichtum\
 , vom Mut und dem gegenseitigen Vertrauen der drei. Letzteres haben sie wä
 hrend Jahren gemeinsamen Wirkens vertieft.\nSelbstbestimmt pflegen die Phi
 lipp Z’Rotz (Saxophones\, Klarinette)\, Marc Jenny (Kontrabass) und Emanue
 l Künzi (Schlagzeug\, Perkussion) ein äusserst organisches Zusammenspiel u
 nd einen evolutionären Umgang mit ihren Kompositionen. Diemelodischen Kern
 e sind das Herz ihrer Musik. Sie kommen oft im Wechselspiel von Jenny und 
 Z'Rotz\, während Emanuel Künzi die Reise zum Punkt des Abhebens mit seinem
  reichhaltigen Arsenal an geräuschhaften Sensibilitäten und Heftigkeiten v
 orantreibt.\nEin verschworen musizierendes Trio\, das sich immer mehr auf 
 die äussersten Äste des Baumes hinauswagt\, den es vor Jahren gepflanzt ha
 t.\nPhilipp Z’Rotz (reeds)\, Marc Jenny (db)\, Emanuel Künzi (dr)\nhttp://
 kimmtrio.ch
DTSTART:20221222T191500Z
DTEND:20221222T191500Z
GEO:00;0
LOCATION:
ORGANIZER:
SEQUENCE:1
SUMMARY:Kimm Trio
TRANSP:OPAQUE
URL:https://www.esse.bar/index.php/veranstaltungen/vergangene-veranstaltung
 en/1697-kimm-trio-2/2022-12-22-20-15
END:VEVENT
END:VCALENDAR
