BEGIN:VCALENDAR
VERSION:2.0
PRODID:-//ESSE Musicbar Winterthur//NONSGML kigkonsult.se iCalcreator 2.41.92//
CALSCALE:GREGORIAN
METHOD:PUBLISH
UID:63393633-3165-4165-b931-353536323834
X-WR-CALNAME:iCagenda
X-WR-CALDESC:Event Management Extension for Joomla!
X-WR-RELCALID:3E26604A-50F4-4449-8B3E-E4F4932D05B5
X-WR-TIMEZONE:Europe/Zurich
BEGIN:VTIMEZONE
TZID:Europe/Zurich
TZUNTIL:20241027T010000Z
BEGIN:STANDARD
TZNAME:CET
DTSTART:20221030T030000
TZOFFSETFROM:+0200
TZOFFSETTO:+0100
RDATE:20231029T030000
END:STANDARD
BEGIN:DAYLIGHT
TZNAME:CEST
DTSTART:20220327T020000
TZOFFSETFROM:+0100
TZOFFSETTO:+0200
RDATE:20230326T020000
RDATE:20240331T020000
END:DAYLIGHT
END:VTIMEZONE
BEGIN:VEVENT
UID:63373665-3166-4634-b438-346638363730
DTSTAMP:20260419T182001Z
CATEGORIES:Jazz
CLASS:PUBLIC
DESCRIPTION;ALTREP="CID:<FFFF__=0ABBE548DFE235B58f9e8a93d@coffeebean.com>":
 Vor Jahren noch ein Geheimtipp\, inzwischen längst Kult: Das Quartett «The
  Sad Pumpkins» mit ihrem einschneidend erfolgreichen Programm «Sad Christm
 as». Melancholischer die Glocken nie klingen\, als wenn Niculin Janett (Sa
 xophon\, Gesang) und Noam Szyfer (Gitarre) die amerikanischen und europäis
 chen Weihnachtsklassiker in die Gegenwart transformieren.\nGespielt wird d
 as ganze natürlich mit einer standesgemässen Coolness\, wie man sie von «T
 he Sad Pumpkins» gewohnt ist. Unterstützung erhalten die beiden auch diesm
 al von einer festlich-funkelnden Rhythm-Section mit Mischa Frey am Kontrab
 ass und Maxime Paratte am Schlagzeug.\nNiculin Janett (voc\, s)\, Noam Szy
 fer (g)\, Mischa Frey (db)\, Maxime Paratte (dr)\nhttp://www.thesadpumpkin
 s.ch
DTSTART:20221223T191500Z
DTEND:20221223T191500Z
GEO:00;0
LOCATION:
ORGANIZER:
SEQUENCE:1
SUMMARY:The Sad Pumpkins – «Sad Christmas»
TRANSP:OPAQUE
URL:https://www.esse.bar/index.php/veranstaltungen/vergangene-veranstaltung
 en/1698-the-sad-pumpkins-4/2022-12-23-20-15
END:VEVENT
END:VCALENDAR
