BEGIN:VCALENDAR
VERSION:2.0
PRODID:-//ESSE Musicbar Winterthur//NONSGML kigkonsult.se iCalcreator 2.41.92//
CALSCALE:GREGORIAN
METHOD:PUBLISH
UID:30633461-3336-4030-b933-633633656632
X-WR-CALNAME:iCagenda
X-WR-CALDESC:Event Management Extension for Joomla!
X-WR-RELCALID:3E26604A-50F4-4449-8B3E-E4F4932D05B5
X-WR-TIMEZONE:Europe/Zurich
BEGIN:VTIMEZONE
TZID:Europe/Zurich
TZUNTIL:20241027T010000Z
BEGIN:STANDARD
TZNAME:CET
DTSTART:20221030T030000
TZOFFSETFROM:+0200
TZOFFSETTO:+0100
RDATE:20231029T030000
END:STANDARD
BEGIN:DAYLIGHT
TZNAME:CEST
DTSTART:20220327T020000
TZOFFSETFROM:+0100
TZOFFSETTO:+0200
RDATE:20230326T020000
RDATE:20240331T020000
END:DAYLIGHT
END:VTIMEZONE
BEGIN:VEVENT
UID:62306630-3439-4131-b631-646539643735
DTSTAMP:20260419T181805Z
CATEGORIES:Party
CLASS:PUBLIC
DESCRIPTION;ALTREP="CID:<FFFF__=0ABBE548DFE235B58f9e8a93d@coffeebean.com>":
 \nEine Veranstaltung des Vereins «Let’s dance 45».\nLiebe Let's Dancer\nWi
 r legen wieder in der ESSE MUSICBAR heisse Platten aus den 50er bis 80er J
 ahren auf. Viel Unbekanntes kommt neben bekannten Melodien und Ohrwürmer a
 uf die Plattenteller\, alles Musik\, die euch in Bewegung setzen wird und 
 zum Tanzen animiert.\nZusammen mit dem ESSE-TEAM freuen wir uns riesig auf
  viele Tanzbegeisterte\, die Lust auf unsere Musik und die Ambience der ES
 SE MUSIKBAR haben. Die Bar ist wie gewohnt schon ab 17 Uhr offen und biete
 t ihre Snacks und Drinks an.\nAuf zahlreiches Wiedersehen freuen sich Joch
 en\, Rolf und Stefan und das ESSE Musicbar-Team.\nEintritt CHF 20.– | Redu
 ziertes Sitzplatzangebot | keine Platzreservation\nwww.letsdance45.ch\nFly
 er: PDF
DTSTART:20221210T190000Z
DTEND:20221210T190000Z
GEO:00;0
LOCATION:
ORGANIZER:
SEQUENCE:1
SUMMARY:Let's dance 45
TRANSP:OPAQUE
URL:https://www.esse.bar/index.php/veranstaltungen/vergangene-veranstaltung
 en/1700-let-s-dance-60/2022-12-10-20-00
END:VEVENT
END:VCALENDAR
