BEGIN:VCALENDAR
VERSION:2.0
PRODID:-//ESSE Musicbar Winterthur//NONSGML kigkonsult.se iCalcreator 2.41.92//
CALSCALE:GREGORIAN
METHOD:PUBLISH
UID:64616666-3034-4837-b334-393939626663
X-WR-CALNAME:iCagenda
X-WR-CALDESC:Event Management Extension for Joomla!
X-WR-RELCALID:3E26604A-50F4-4449-8B3E-E4F4932D05B5
X-WR-TIMEZONE:Europe/Zurich
BEGIN:VTIMEZONE
TZID:Europe/Zurich
TZUNTIL:20240331T010000Z
BEGIN:STANDARD
TZNAME:CET
DTSTART:20211031T030000
TZOFFSETFROM:+0200
TZOFFSETTO:+0100
RDATE:20221030T030000
RDATE:20231029T030000
END:STANDARD
BEGIN:DAYLIGHT
TZNAME:CEST
DTSTART:20220327T020000
TZOFFSETFROM:+0100
TZOFFSETTO:+0200
RDATE:20230326T020000
END:DAYLIGHT
END:VTIMEZONE
BEGIN:VEVENT
UID:37373965-6362-4336-b839-616334373364
DTSTAMP:20260419T195333Z
CATEGORIES:Blues
CLASS:PUBLIC
DESCRIPTION;ALTREP="CID:<FFFF__=0ABBE548DFE235B58f9e8a93d@coffeebean.com>":
 WICHTIG: Dieses Konzert findet im Eisenwerk Frauenfeld statt!\nBlues Carav
 an 20223 aufstrebende Talente\, 3 Live-Sets und 1 Jam-SessionKatie Henry\,
  Will Jacobs\, Ghalia Volt\nKatie Henry ist ein Unikum. Auf der Bühne flit
 zt sie zwischen Gesangsmikro\, Piano und Gibson SG bei einem Stil\, der Ro
 ck\, Roots\, R&amp\;B\, Soul\, Funk und Pop umfasst. Womöglich fühlt man s
 ich dabei kurz an Bonnie Raitt erinnert. Doch sind es ihre ganz eigene\, u
 nverfälschte Ausstrahlung\, ihr ehrliches Songwriting und das beeindrucken
 de Können der Musikerin auf zwei Instrumenten\, mit denen sie sich ihren g
 uten Ruf erspielen konnte. „Wenn mein Publikum mit einem Gefühl nach Hause
  geht\, sich selbst und auch den anderen näher gekommen zu sein\, dann wei
 ss ich\, dass ich einen guten Job gemacht habe.“\nWill Jacobs ist ein mode
 rner Blues/R&amp\;B/Soul-Künstler aus Chicago\, Illinois\, USA. Mit seinen
  28 Jahren ist er vor allem für seine kraftvollen Live-Auftritte bekannt. 
 Ob er in Clubs/Festivals spielt\, mit anderen Weltklasse-Musikern auftritt
 \, Sessions bestreitet oder komponiert\, Will freut sich immer darauf\, se
 ine Musikleidenschaft mit dem Publikum zu teilen.\n2022 kann sich das Blue
 s Caravan Publikum daher auf ein weiteres musikalisches Talent freuen\, we
 lches mit seiner Gitarre die Bühnen zum Beben bringt.Die aus Brüssel stamm
 ende Ghalia Volt lebt und tourt seit vielen Jahren in den USA und hat wie 
 kaum eine andere europäische Künstlerin den ursprünglichen Blues verinnerl
 icht. Die Sängerin und Gitarristin sorgte zunächst als Frontfrau der in Ne
 w Orleans beheimateten Mama’s Boys für Furore\; ihr 2019er Album «Mississi
 ppi Blend» festigte ihren Ruf als Ausnahmetalent. Anfang 2021 veröffentlic
 hte sie Ihr Album «One Woman Band»\, welches in dem repräsentativen Royal 
 Studios in Memphis aufgenommen wurde. Ein Album wo sie ihre Fähigkeiten al
 s Multi–Instrumentalistin unter Beweis stellen konnte. Auf dem Blues Carav
 an 2022 präsentiert uns Ghalia eine Show mit allen Hits ihrer drei Ruf Rec
 ords Veröffentlichungen.\nKatie Henry (g\, p\, voc)\, Will Jacobs (g\, voc
 )\, Ghalia Volt Thomas German (b)\, Denis Palatin (dr)\nInfos &amp\; Ticke
 ts: https://www.eisenwerk.ch/programm/48/1434-Blues-Caravan-2022/
DTSTART:20220924T190000Z
DTEND:20220924T190000Z
GEO:00;0
LOCATION:
ORGANIZER:
SEQUENCE:1
SUMMARY:Blues Caravan 2022
TRANSP:OPAQUE
URL:https://www.esse.bar/index.php/veranstaltungen/vergangene-veranstaltung
 en/1704-blues-caravan-2022/2022-09-24-21-00
END:VEVENT
END:VCALENDAR
