BEGIN:VCALENDAR
VERSION:2.0
PRODID:-//ESSE Musicbar Winterthur//NONSGML kigkonsult.se iCalcreator 2.41.92//
CALSCALE:GREGORIAN
METHOD:PUBLISH
UID:39316331-3737-4663-b636-636532316365
X-WR-CALNAME:iCagenda
X-WR-CALDESC:Event Management Extension for Joomla!
X-WR-RELCALID:3E26604A-50F4-4449-8B3E-E4F4932D05B5
X-WR-TIMEZONE:Europe/Zurich
BEGIN:VTIMEZONE
TZID:Europe/Zurich
TZUNTIL:20241027T010000Z
BEGIN:STANDARD
TZNAME:CET
DTSTART:20221030T030000
TZOFFSETFROM:+0200
TZOFFSETTO:+0100
RDATE:20231029T030000
END:STANDARD
BEGIN:DAYLIGHT
TZNAME:CEST
DTSTART:20220327T020000
TZOFFSETFROM:+0100
TZOFFSETTO:+0200
RDATE:20230326T020000
RDATE:20240331T020000
END:DAYLIGHT
END:VTIMEZONE
BEGIN:VEVENT
UID:31643563-3838-4436-b831-303766386439
DTSTAMP:20260419T182715Z
CATEGORIES:StandUp Choir
CLASS:PUBLIC
DESCRIPTION;ALTREP="CID:<FFFF__=0ABBE548DFE235B58f9e8a93d@coffeebean.com>":
 «Wenn du glücklich werden willst\, singe! wenn du noch glücklicher werden 
 willst\, singe in einem Chor!» - Stephan Eicher\nZwei Stunden\, mit Sänger
 in und Coach Eva Pearlman\, voller Energie\, Lebensfreude und Erfolgserleb
 nisse! Gemeinsam werden bekannte und einfach zu lernende Songs aus verschi
 edenen Genres von Pop/ Rock bis Soul &amp\; Jazz gesungen\, mehrstimmig un
 d mit Pianobegleitung.\nInklusive Atem- und Stimmtraining. Vorkenntnisse s
 ind keine notwendig.\nhttps://youtu.be/oBO2t2phBec\nDetails: https://eva-m
 usic.ch/chorerlebnisseVeranstaltung-Flyer: PDF\nUnbeschwertes Singen für a
 lle. Kosten: CHF 40.00\nAnmeldung: eva@vocalize.ch\nEs besteht im Anschlus
 s die Möglichkeit\, ein einfaches Mittagessen in der ESSE Musicbar zu geni
 essen. 
DTSTART:20221126T083000Z
DTEND:20221126T083000Z
GEO:00;0
LOCATION:
ORGANIZER:
SEQUENCE:1
SUMMARY:Eva Pearlman StandUp Choir
TRANSP:OPAQUE
URL:https://www.esse.bar/index.php/veranstaltungen/vergangene-veranstaltung
 en/1706-eva-pearlman-standup-choir-3/2022-11-26-09-30
END:VEVENT
END:VCALENDAR
