BEGIN:VCALENDAR
VERSION:2.0
PRODID:-//ESSE Musicbar Winterthur//NONSGML kigkonsult.se iCalcreator 2.41.92//
CALSCALE:GREGORIAN
METHOD:PUBLISH
UID:34386465-6663-4635-a539-333563646539
X-WR-CALNAME:iCagenda
X-WR-CALDESC:Event Management Extension for Joomla!
X-WR-RELCALID:3E26604A-50F4-4449-8B3E-E4F4932D05B5
X-WR-TIMEZONE:Europe/Zurich
BEGIN:VTIMEZONE
TZID:Europe/Zurich
TZUNTIL:20241027T010000Z
BEGIN:STANDARD
TZNAME:CET
DTSTART:20221030T030000
TZOFFSETFROM:+0200
TZOFFSETTO:+0100
RDATE:20231029T030000
END:STANDARD
BEGIN:DAYLIGHT
TZNAME:CEST
DTSTART:20220327T020000
TZOFFSETFROM:+0100
TZOFFSETTO:+0200
RDATE:20230326T020000
RDATE:20240331T020000
END:DAYLIGHT
END:VTIMEZONE
BEGIN:VEVENT
UID:66626531-3361-4036-b235-383239653833
DTSTAMP:20260419T195334Z
CATEGORIES:Folk & More
CLASS:PUBLIC
DESCRIPTION;ALTREP="CID:<FFFF__=0ABBE548DFE235B58f9e8a93d@coffeebean.com>":
 Bei «Bluescht» treffen archaischer Naturjodel und groovig-melodiöser Folk 
 aufeinander. Das Basler Duo zelebriert die Schönheit und Schlichtheit alte
 rund neuer Schweizer Volksmusik. Nebst eigenen Songs hat das Duo tradition
 elle Naturjodel und neu arrangierte Volkslieder aus dem Alpenraum im Gepäc
 k.\n«Bluescht» lassen Altes &amp\; Neues zu Klangblüten erklingen. Ausgang
 spunkt des Duos ist die Schweizer Lied- und Naturjodelkultur\, welche sie 
 so stimmig gestalten\, dass Tradition nahtlos mit Zeitgemässem verschmilzt
 . Der Gesang von Seraina Clark fesselt mit seiner teils wehmütig-zarten\, 
 teils urchig-kraftvollen Art. Begleitet wird sie vom vielseitigen Jazzmusi
 ker Hannes Fankhauser (u.a. bei «SULP») mit Kontrabass\, Tuba oder Alphorn
 .\nSeraina Clark-Wüthrich (Gesang/Jodel\, Gitarre\; Kompositionen)\, Hanne
 s Fankhauser (Kontrabass\, Tuba\, Alphorn)\nhttps://www.bluescht.ch
DTSTART:20221113T183000Z
DTEND:20221113T183000Z
GEO:00;0
LOCATION:
ORGANIZER:
SEQUENCE:1
SUMMARY:Bluescht
TRANSP:OPAQUE
URL:https://www.esse.bar/index.php/veranstaltungen/vergangene-veranstaltung
 en/1709-bluescht-5/2022-11-13-19-30
END:VEVENT
END:VCALENDAR
