BEGIN:VCALENDAR
VERSION:2.0
PRODID:-//ESSE Musicbar Winterthur//NONSGML kigkonsult.se iCalcreator 2.41.92//
CALSCALE:GREGORIAN
METHOD:PUBLISH
UID:31393163-3161-4135-b538-346636336365
X-WR-CALNAME:iCagenda
X-WR-CALDESC:Event Management Extension for Joomla!
X-WR-RELCALID:3E26604A-50F4-4449-8B3E-E4F4932D05B5
X-WR-TIMEZONE:Europe/Zurich
BEGIN:VTIMEZONE
TZID:Europe/Zurich
TZUNTIL:20241027T010000Z
BEGIN:STANDARD
TZNAME:CET
DTSTART:20221030T030000
TZOFFSETFROM:+0200
TZOFFSETTO:+0100
RDATE:20231029T030000
END:STANDARD
BEGIN:DAYLIGHT
TZNAME:CEST
DTSTART:20220327T020000
TZOFFSETFROM:+0100
TZOFFSETTO:+0200
RDATE:20230326T020000
RDATE:20240331T020000
END:DAYLIGHT
END:VTIMEZONE
BEGIN:VEVENT
UID:63646362-3735-4339-b564-386264376331
DTSTAMP:20260419T201149Z
CATEGORIES:Jazz
CLASS:PUBLIC
DESCRIPTION;ALTREP="CID:<FFFF__=0ABBE548DFE235B58f9e8a93d@coffeebean.com>":
 Erleben Sie Werke aus Klassik\, Jazz und ungarischer Zigeunermusik mit ate
 mberaubender Virtuosität. Lassen Sie sich begeistern und verzaubern von Ro
 by Lakatos («Der Geiger mit den schnellsten Fingern der Welt»)\, Blanka Ke
 rekes\, Querflöte und Kálmán Cséki\, Klavier.\nDer weltbekannte Roby Lakat
 os verblüfft sein Publikum mit einer atemberaubenden Virtuosität. Zusammen
  mit der Flötistin Blanka Kerekes und dem Pianisten Kalman Cseki führt er 
 uns durch einen Abend zwischen der ungarischen Zigeunermusik und Jazz - zw
 ei musikalischen Welten\, welche immer wieder miteinander verschmelzen.\nB
 lanka Kerekes (fl)\, Roby Lakatos (vl)\, Kálmán Cséki (p)\nhttp://roby-lak
 atos.comhttps://www.benatzky.ch/b/blanka-kerekeshttps://www.facebook.com/K
 almanCsekiTrio/\n\nBlanka Kerekes – Querflötistin – ist in Ungarn geboren.
  Seit 2008 lebt sie in der Schweiz. Sie ist als Soloflötistin\, Kammermusi
 kerin\, Dozentin an der Kalaidos Musikhochschule\, Querflötenlehrerin\, Ju
 ry- und Fachexpertin an zahlreichen Internationalen Festivals und Wettbewe
 rben tätig. Sie erhielt das Diplom mit Auszeichnung an der Königlichen Mus
 ikakademie Budapest\, danach erwarb sie ihre Diplome an der Zürcher Hochsc
 hule der Künste\, ebenfalls mit Auszeichnungen. Ihr Repertoire vervollstän
 digte sie aufgrund ihres klassischen musikalischen Wissens mit einem Jazz-
 Studium\, und kreierte ihren eigenen Stil mit der Verwendung von Elementen
  beider musikalischen Richtungen. Sie spielt europaweit mit weltberühmten 
 Künstlern und Orchestern. Blanka Kerekes wurde vom gefeierten Geiger\, Nig
 el Kennedy für eine Jam-Session eingeladen.\nRoby Lakatos – Vionline – ist
  nicht nur ein begnadeter Virtuose\, sondern auch ein Musiker mit einer au
 ssergewöhnlichen stilistischen Flexibilität. Yehudi Menuhin pries sein Tal
 ent in höchsten Tönen\, um ebenso dessen Alleinstellungsmerkmal hervorzuhe
 ben: «Er ist gleichzeitig ungarischer Zigeuner! Er fühlt sich bei der hing
 ebungsvollen Interpretation von klassischer Musik genauso wohl wie bei sei
 ner ureigenen ungarischen Folklore. Roby Lakatos ist einer dieser seltenen
  Musiker\, die sich nicht in eine bestimmte Schublade einordnen lassen.»\n
 Kálmán Cséki – Pianist– wurde 1982 in Budapest geboren. Er absolvierte die
  klassische Fakultät an der Leo Weiner Music High School. Dann spielte er 
 Jazzmusik in verschiedenen Formationen. Seit seinem siebzehnten Lebensjahr
  spielt er auf vielen ungarischen Jazzfestivals und Jazzclubs. Seit 2012 s
 pielt er im Roby Lakatos Ensemble. In den USA\, in Asien und in ganz Europ
 a sind sie gefeierte Musiker. Kalman spielte mit weltberühmten Künstlern w
 ie Bireli Lagrene\, Didier Lockwood usw. Daneben spielt er mit seiner Band
 \, dem «Kalman Cseki Trio». Seine neue CD wurde im Februar 2019 aufgenomme
 n\, darauf spielt er seine eigenen Kompositionen. Ausserdem gibt er Soloko
 nzerte und tritt in mehreren Projekten in seinem eigenen Stil auf.
DTSTART:20221119T191500Z
DTEND:20221119T191500Z
GEO:00;0
LOCATION:
ORGANIZER:
SEQUENCE:1
SUMMARY:Blanka Kerekes - Roby Lakatos - Kálmán Cséki
TRANSP:OPAQUE
URL:https://www.esse.bar/index.php/veranstaltungen/vergangene-veranstaltung
 en/1714-blanka-kerekes-roby-lakatos-kalman-cseki/2022-11-19-20-15
END:VEVENT
END:VCALENDAR
