BEGIN:VCALENDAR
VERSION:2.0
PRODID:-//ESSE Musicbar Winterthur//NONSGML kigkonsult.se iCalcreator 2.41.92//
CALSCALE:GREGORIAN
METHOD:PUBLISH
UID:64303862-3039-4234-b130-333266623337
X-WR-CALNAME:iCagenda
X-WR-CALDESC:Event Management Extension for Joomla!
X-WR-RELCALID:3E26604A-50F4-4449-8B3E-E4F4932D05B5
X-WR-TIMEZONE:Europe/Zurich
BEGIN:VTIMEZONE
TZID:Europe/Zurich
TZUNTIL:20241027T010000Z
BEGIN:STANDARD
TZNAME:CET
DTSTART:20221030T030000
TZOFFSETFROM:+0200
TZOFFSETTO:+0100
RDATE:20231029T030000
END:STANDARD
BEGIN:DAYLIGHT
TZNAME:CEST
DTSTART:20220327T020000
TZOFFSETFROM:+0100
TZOFFSETTO:+0200
RDATE:20230326T020000
RDATE:20240331T020000
END:DAYLIGHT
END:VTIMEZONE
BEGIN:VEVENT
UID:62356139-3266-4638-b230-656662343938
DTSTAMP:20260419T181825Z
CATEGORIES:young people on stage
CLASS:PUBLIC
DESCRIPTION;ALTREP="CID:<FFFF__=0ABBE548DFE235B58f9e8a93d@coffeebean.com>":
 Die Jugendmusikschule Winterthur und Umgebung und das Konservatorium Winte
 rthur präsentieren das\nFörderkonzert Rock / Pop / Jazz\nHandverlesene jun
 ge Talente begeistern mit abwechslungsreichen Hits aus Jazz\, Pop und Rock
  in Clubatmosphäre.\nSoundcheck ab 17.00 Uhr | Konzertbeginn: 19.30 Uhr\nD
 as Programm als PDF
DTSTART:20221129T183000Z
DTEND:20221129T183000Z
GEO:00;0
LOCATION:
ORGANIZER:
SEQUENCE:1
SUMMARY:Young People On Stage
TRANSP:OPAQUE
URL:https://www.esse.bar/index.php/veranstaltungen/vergangene-veranstaltung
 en/1716-young-people-on-stage-14/2022-11-29-19-30
END:VEVENT
END:VCALENDAR
