BEGIN:VCALENDAR
VERSION:2.0
PRODID:-//ESSE Musicbar Winterthur//NONSGML kigkonsult.se iCalcreator 2.41.92//
CALSCALE:GREGORIAN
METHOD:PUBLISH
UID:62323231-6663-4561-b165-303230643263
X-WR-CALNAME:iCagenda
X-WR-CALDESC:Event Management Extension for Joomla!
X-WR-RELCALID:3E26604A-50F4-4449-8B3E-E4F4932D05B5
X-WR-TIMEZONE:Europe/Zurich
BEGIN:VTIMEZONE
TZID:Europe/Zurich
TZUNTIL:20241027T010000Z
BEGIN:STANDARD
TZNAME:CET
DTSTART:20221030T030000
TZOFFSETFROM:+0200
TZOFFSETTO:+0100
RDATE:20231029T030000
END:STANDARD
BEGIN:DAYLIGHT
TZNAME:CEST
DTSTART:20220327T020000
TZOFFSETFROM:+0100
TZOFFSETTO:+0200
RDATE:20230326T020000
RDATE:20240331T020000
END:DAYLIGHT
END:VTIMEZONE
BEGIN:VEVENT
UID:34636164-3562-4166-a565-643533313865
DTSTAMP:20260419T182121Z
CATEGORIES:Folk & More
CLASS:PUBLIC
DESCRIPTION;ALTREP="CID:<FFFF__=0ABBE548DFE235B58f9e8a93d@coffeebean.com>":
 Die auch in den USA und der Schweiz vielgelobten Musiker und Autoren Mat C
 allahan &amp\; Yvonne Moore sind seit 25 Jahren ein Team. Ihre mitreissend
 e Energie auf der Bühne ziehen sie aus der Kontinuität ihrer langjährigen 
 Zusammenarbeit\, hinter und neben der Bühne.\nIhr neues Album «It is right
  to rebel»\, aufgenommen mit Musikerfreunden\, ist ein bemerkenswertes und
  zum Nachdenken anregendes Werk. «It is right to rebel» ist ein Schlachtru
 f\, ein Weckruf\, eine Einladung\, sich den Kämpfen unserer Zeit anzuschli
 essen. Die Platte ist eine Feier der Rebellion und der sozialen Bewegungen
  und ein musikalischer Daumen hoch für alle Menschen\, die erkennen\, dass
  grosse Veränderungen vorgenommen werden müssen.\nDas Musikerpaar verbinde
 t mit einer Vielfalt von Musikstilen\, von Folk über Americana bis Spiritu
 als und Soul\, Geschichten aus der Vergangenheit mit dem Heute. Eine Gitar
 re\, eine Mundharmonika\, zwei Stimmen - handgemacht und ehrlich.\nYvonne 
 Moore (voc\, harp)\, Mat Callahan (g\, voc)\nwww.matandyvonne.com\nFoto: H
 elmut Bär\n 
DTSTART:20230108T183000Z
DTEND:20230108T183000Z
GEO:00;0
LOCATION:
ORGANIZER:
SEQUENCE:1
SUMMARY:Mat Callahan & Yvonne Moore – «It is right to rebel»
TRANSP:OPAQUE
URL:https://www.esse.bar/index.php/veranstaltungen/vergangene-veranstaltung
 en/1718-mat-callahan-yvonne-moore-2/2023-01-08-19-30
END:VEVENT
END:VCALENDAR
