BEGIN:VCALENDAR
VERSION:2.0
PRODID:-//ESSE Musicbar Winterthur//NONSGML kigkonsult.se iCalcreator 2.41.92//
CALSCALE:GREGORIAN
METHOD:PUBLISH
UID:64653865-3535-4031-b136-343132666261
X-WR-CALNAME:iCagenda
X-WR-CALDESC:Event Management Extension for Joomla!
X-WR-RELCALID:3E26604A-50F4-4449-8B3E-E4F4932D05B5
X-WR-TIMEZONE:Europe/Zurich
BEGIN:VTIMEZONE
TZID:Europe/Zurich
TZUNTIL:20241027T010000Z
BEGIN:STANDARD
TZNAME:CET
DTSTART:20221030T030000
TZOFFSETFROM:+0200
TZOFFSETTO:+0100
RDATE:20231029T030000
END:STANDARD
BEGIN:DAYLIGHT
TZNAME:CEST
DTSTART:20220327T020000
TZOFFSETFROM:+0100
TZOFFSETTO:+0200
RDATE:20230326T020000
RDATE:20240331T020000
END:DAYLIGHT
END:VTIMEZONE
BEGIN:VEVENT
UID:36303433-6436-4366-b932-633734623066
DTSTAMP:20260419T181826Z
CATEGORIES:Jazz
CLASS:PUBLIC
DESCRIPTION;ALTREP="CID:<FFFF__=0ABBE548DFE235B58f9e8a93d@coffeebean.com>":
 Attila Vurals Spiel lädt ein\, ihm auf seinen Klangreisen in die weite Wel
 t musikalischer Begegnungen zu folgen. Dazu stehen mittlerweile siebzehn S
 olo-CD's bereit: «A Handful of Thoughts» (2004)\, «Painting a Reverie» (20
 07) «Some Place of Sounding» (2009)\, «The Last Laugh» (2010)\, «Something
  Plays Like a Child» (2012) «According Outside my Room» (2014)\, «Moonbeam
 s Rise as Quavers» (2015)\, «Another Strumming in the Blue» (2016)\, «With
  Dom at the Meeting Point - A Tribute to Dominic Miller» (2016)\, «The Ten
 th Hour of Delight» (2017)\, «Encounters at the Riviera» (2018)\, «Harmoni
 zed but Different» (2019)\, «The Rhythm's Deep Whisper» (2020)\, «That's W
 hy I Play the Guitar (A Fingerstyle Tribute to Gary Moore)» (2020)\, «Intr
 oducing of my BlueLine» (2021)\, «Sonorous in One Quiet Night» (2022)\, «B
 ack to Moore (Another Solo Acoustic Guitar Tribute to Gary Moore)» (2022) 
 und – ganz aktuell – «The Real Live Wires Are Talking» (2023).\nBei vielen
  Gelegenheiten ist Vurals perkussive Gitarre national und international li
 ve zu hören. Ob auf Tonträger oder auf der Bühne: Wer mit Attila Vural die
  Reise antritt\, wird Orte aufsuchen\, die zu entdecken man einer Solo-Git
 arre gar nicht zutrauen würde.\nAttila Vural (g\, harp\, voc)\nhttps://www
 .lavural.ch
DTSTART:20230113T191500Z
DTEND:20230113T191500Z
GEO:00;0
LOCATION:
ORGANIZER:
SEQUENCE:1
SUMMARY:Attila Vural – «Nicht ohne meine Gitarre»
TRANSP:OPAQUE
URL:https://www.esse.bar/index.php/veranstaltungen/vergangene-veranstaltung
 en/1719-attila-vural-3/2023-01-13-20-15
END:VEVENT
END:VCALENDAR
