BEGIN:VCALENDAR
VERSION:2.0
PRODID:-//ESSE Musicbar Winterthur//NONSGML kigkonsult.se iCalcreator 2.41.92//
CALSCALE:GREGORIAN
METHOD:PUBLISH
UID:62646165-3334-4064-a163-306563653361
X-WR-CALNAME:iCagenda
X-WR-CALDESC:Event Management Extension for Joomla!
X-WR-RELCALID:3E26604A-50F4-4449-8B3E-E4F4932D05B5
X-WR-TIMEZONE:Europe/Zurich
BEGIN:VTIMEZONE
TZID:Europe/Zurich
TZUNTIL:20241027T010000Z
BEGIN:STANDARD
TZNAME:CET
DTSTART:20221030T030000
TZOFFSETFROM:+0200
TZOFFSETTO:+0100
RDATE:20231029T030000
END:STANDARD
BEGIN:DAYLIGHT
TZNAME:CEST
DTSTART:20220327T020000
TZOFFSETFROM:+0100
TZOFFSETTO:+0200
RDATE:20230326T020000
RDATE:20240331T020000
END:DAYLIGHT
END:VTIMEZONE
BEGIN:VEVENT
UID:39663835-3431-4733-a365-613638633534
DTSTAMP:20260419T182121Z
CATEGORIES:Folk & More
CLASS:PUBLIC
DESCRIPTION;ALTREP="CID:<FFFF__=0ABBE548DFE235B58f9e8a93d@coffeebean.com>":
 Als Multi-Gitarrist wurde Marc Rossier einst in einer deutschen Musikzeits
 chrift bezeichnet. Eine Wortkreation\, die ausdrückt\, wie vielfältig das 
 Instrument in seinen Händen klingen kann. Kraftvoll\, emotional und raffin
 iert zugleich.\nZusammen mit dem Bassisten Peter Enderli und Christof Jaus
 si an den Drums interpretiert er seinen abwechslungsreichen\, zeitgenössis
 chen Blues\, der sich weder formal noch textlich auf übliche Blues-Standar
 ds beschränkt. Im Dezember 2022 erscheint die erste Veröffentlichung des T
 rios. Mit der Single «Out Of This World» verneigt sich Rossier vor den gen
 ialen Songwritern unserer Zeit und zeigt dabei selbst sein kompositorische
 s Talent.\nDer Gitarrist prägte eine Vielzahl von Bands wie Little Venus\,
  k'daar oder anorakk. In bester Erinnerung sind auch die Tourneen mit Luni
 k\, der schwedischen Sängerin LOVA oder der libanesischen Sängerin Frida.
 \n«Ro's Blue» ist die frische Farbe auf Rossier's musikalischer Palette.\n
 Marc Rossier (g\, voc)\, Peter Enderli (b)\, Christof Jaussi (dr\, voc)\nh
 ttps://www.marcrossier.com/ros_blue
DTSTART:20230115T183000Z
DTEND:20230115T183000Z
GEO:00;0
LOCATION:
ORGANIZER:
SEQUENCE:1
SUMMARY:Marc Rossier - Ro's Blue – «Out Of This World»
TRANSP:OPAQUE
URL:https://www.esse.bar/index.php/veranstaltungen/vergangene-veranstaltung
 en/1720-marc-rossier-ro-s-blue-2/2023-01-15-19-30
END:VEVENT
END:VCALENDAR
