BEGIN:VCALENDAR
VERSION:2.0
PRODID:-//ESSE Musicbar Winterthur//NONSGML kigkonsult.se iCalcreator 2.41.92//
CALSCALE:GREGORIAN
METHOD:PUBLISH
UID:66663632-3534-4130-a663-666236346466
X-WR-CALNAME:iCagenda
X-WR-CALDESC:Event Management Extension for Joomla!
X-WR-RELCALID:3E26604A-50F4-4449-8B3E-E4F4932D05B5
X-WR-TIMEZONE:Europe/Zurich
BEGIN:VTIMEZONE
TZID:Europe/Zurich
TZUNTIL:20241027T010000Z
BEGIN:STANDARD
TZNAME:CET
DTSTART:20221030T030000
TZOFFSETFROM:+0200
TZOFFSETTO:+0100
RDATE:20231029T030000
END:STANDARD
BEGIN:DAYLIGHT
TZNAME:CEST
DTSTART:20220327T020000
TZOFFSETFROM:+0100
TZOFFSETTO:+0200
RDATE:20230326T020000
RDATE:20240331T020000
END:DAYLIGHT
END:VTIMEZONE
BEGIN:VEVENT
UID:36626437-6231-4234-b236-373337356362
DTSTAMP:20260419T181918Z
CATEGORIES:Jazz
CLASS:PUBLIC
DESCRIPTION;ALTREP="CID:<FFFF__=0ABBE548DFE235B58f9e8a93d@coffeebean.com>":
 Spezialkonzert mit Eintritt: CHF 45.– / 40.–\nDer Pianist und Komponist Ch
 ristoph Stiefel ist mit seinen Projekten seit Jahrzehnten international un
 terwegs. Ob solo\, im Duo\, Trio oder im Septett…\nJetzt bringt er ein neu
 es Quintet auf die Bühne: «Christoph Stiefel’s Full Tree». \nDie neue Band
  repräsentiert vieles aus Stiefels bisherigem Schaffen gleichzeitig: Die o
 rchestrale Erweiterung der jahrelangen Konzept-Arbeit mit dem «Inner Langu
 age Trio» sowie das Übertragen der Erfahrungen in seinem Septett auf die k
 leinstmögliche und gleichzeitig in der Reduktion maximale orchestrale Einh
 eit - ein Quintett mit Rhythm-Section\, Piano und zwei Bläsern. Kurz gesag
 t: Alles ist möglich\, von minimal bis orchestral und trotzdem bleibt die 
 Band ein überschaubarer\, intimer Organismus mit viel Freiheit und Interpl
 ay.\nDamit dies auch alles musikalisch so umsetzbar ist\, hat Christoph St
 iefel neue Kompositionen für die Band geschrieben und einige der besten Mu
 siker aus der europäischen Jazzszene an seine Seite geholt: Bewährte Bandk
 ollegen (vom Septett) wie Bastian Stein (tp) und Domenic Landolf (ts) sowi
 e eine neue Rhythm-Section mit Raffaele Bosshard (db) und Dejan Terzic (dr
 ).\nStilistisch bleibt sich Stiefel auch in seinem neuen Quintet treu mit 
 schönen Melodien\, dichter Harmonik und einer geballten Ladung rhythmische
 r Energie…\nBastian Stein (tp\, flh)\, Domenic Landolf (ts\, bcl)\, Christ
 oph Stiefel (p\, comp)\, Raffaele Bossard (db)\, Dejan Terzic (dr)\nwww.ch
 ristophstiefel.ch
DTSTART:20230118T191500Z
DTEND:20230118T191500Z
GEO:00;0
LOCATION:
ORGANIZER:
SEQUENCE:1
SUMMARY:Christoph Stiefel’s Full Tree
TRANSP:OPAQUE
URL:https://www.esse.bar/index.php/veranstaltungen/vergangene-veranstaltung
 en/1721-christoph-stiefel/2023-01-18-20-15
END:VEVENT
END:VCALENDAR
