BEGIN:VCALENDAR
VERSION:2.0
PRODID:-//ESSE Musicbar Winterthur//NONSGML kigkonsult.se iCalcreator 2.41.92//
CALSCALE:GREGORIAN
METHOD:PUBLISH
UID:34386636-6165-4636-b436-616232373261
X-WR-CALNAME:iCagenda
X-WR-CALDESC:Event Management Extension for Joomla!
X-WR-RELCALID:3E26604A-50F4-4449-8B3E-E4F4932D05B5
X-WR-TIMEZONE:Europe/Zurich
BEGIN:VTIMEZONE
TZID:Europe/Zurich
TZUNTIL:20241027T010000Z
BEGIN:STANDARD
TZNAME:CET
DTSTART:20221030T030000
TZOFFSETFROM:+0200
TZOFFSETTO:+0100
RDATE:20231029T030000
END:STANDARD
BEGIN:DAYLIGHT
TZNAME:CEST
DTSTART:20220327T020000
TZOFFSETFROM:+0100
TZOFFSETTO:+0200
RDATE:20230326T020000
RDATE:20240331T020000
END:DAYLIGHT
END:VTIMEZONE
BEGIN:VEVENT
UID:30613463-3866-4130-a137-646537643439
DTSTAMP:20260419T182309Z
CATEGORIES:Jazz
CLASS:PUBLIC
DESCRIPTION;ALTREP="CID:<FFFF__=0ABBE548DFE235B58f9e8a93d@coffeebean.com>":
 Sein Name hatte einen guten Klang in Hollywood: Songs von Jimmy Van Heusen
  (1913 – 1990) wurden insgesamt vierzehn Mal für den Oscar nominiert\, zwe
 imal waren es gleich zwei Lieder im selben Jahr. Und vier Mal gewann er di
 e begehrte Statue. (Und er galt Zeit seines Lebens als bester Freund von F
 rank Sinatra).\nVan Heusen (der eigentlich ganz anders hiess) war damit ei
 ner der erfolgreichsten Songschreiber für Hollywood. Zu seinen bekannteste
 n Kompositionen zählen «Heres That Rainy Day»\, «Come Fly With Me» oder «D
 arn That Dream».\nGemeinsam mit Thomas Lüthi am Saxophon und Elmar Frey am
  Schlagzeug\, machen Pianist Christian Rösli und Kontrabassist Andreas Zit
 z eine musikalische Verbeugung vor einem der grössten Komponisten des Grea
 t American Songbook\, der am 26. Januar 2023 110 Jahre alt geworden wäre.
 \nThomas Lüthi (s)\, Christian Rösli (p)\, Andreas Zitz (db)\, Elmar Frey 
 (dr)\nMehr Details: http://www.dont-forget-the-poets.ch\nhttp://www.thomas
 luethi.nethttps://andreaszitz.chhttp://www.elmarfrey.com
DTSTART:20230120T191500Z
DTEND:20230120T191500Z
GEO:00;0
LOCATION:
ORGANIZER:
SEQUENCE:1
SUMMARY:Don’t Forget The Poets #18 – The Music Of Jimmy Van Heusen
TRANSP:OPAQUE
URL:https://www.esse.bar/index.php/veranstaltungen/vergangene-veranstaltung
 en/1722-don-t-forget-the-poets-5/2023-01-20-20-15
END:VEVENT
END:VCALENDAR
