BEGIN:VCALENDAR
VERSION:2.0
PRODID:-//ESSE Musicbar Winterthur//NONSGML kigkonsult.se iCalcreator 2.41.92//
CALSCALE:GREGORIAN
METHOD:PUBLISH
UID:63636236-3632-4661-b937-336636626262
X-WR-CALNAME:iCagenda
X-WR-CALDESC:Event Management Extension for Joomla!
X-WR-RELCALID:3E26604A-50F4-4449-8B3E-E4F4932D05B5
X-WR-TIMEZONE:Europe/Zurich
BEGIN:VTIMEZONE
TZID:Europe/Zurich
TZUNTIL:20241027T010000Z
BEGIN:STANDARD
TZNAME:CET
DTSTART:20221030T030000
TZOFFSETFROM:+0200
TZOFFSETTO:+0100
RDATE:20231029T030000
END:STANDARD
BEGIN:DAYLIGHT
TZNAME:CEST
DTSTART:20220327T020000
TZOFFSETFROM:+0100
TZOFFSETTO:+0200
RDATE:20230326T020000
RDATE:20240331T020000
END:DAYLIGHT
END:VTIMEZONE
BEGIN:VEVENT
UID:62386665-3565-4661-a631-306566353466
DTSTAMP:20260419T181720Z
CATEGORIES:Jazz
CLASS:PUBLIC
DESCRIPTION;ALTREP="CID:<FFFF__=0ABBE548DFE235B58f9e8a93d@coffeebean.com>":
 Sturmfrei! Die Musiker um den Zürcher Saxophonisten Felix Straumann nutzen
  die Babypause ihrer langjährigen Sängerin Devi Reith und spielen für einm
 al ein rein instrumentales Programm - mit überwiegend eigenen Kompositione
 n. Es sind Songs ohne Worte - groovig mit Elementen aus Jazz\, Rock und Fu
 nk\, ohne viel Schnickschnack\, aber immer mit einem gewissen Twist.\nZusä
 tzlich schöpft die Jazz-Formation «Sting Operation» aus seinen früheren Pr
 ogrammen 'Sting'\, 'Woodstock' und 'Bessie Smith'\, mit denen sie auch im 
 nahen Ausland auf Resonanz gestossen sind. Das österreichische Jazz-Magazi
 n 'Concerto' schreibt beispielsweise\, die Musiker 'rollen eine breite Pal
 ette an Stimmungen aus\, von lyrisch bis expressiv\, und setzen auf farbig
 e Reharmonisierung und erzählende Soli'. Das sei 'hörenswert für Neugierig
 e wie Orthodoxe'\, so das Urteil des deutschen 'Jazz Podium'.\nFelix Strau
 mann (sax)\, Matthias Siegrist (g)\, Peter Leuzinger (b)\, Peter Preibisch
  (dr)\nwww.sting-operation.com
DTSTART:20230112T191500Z
DTEND:20230112T191500Z
GEO:00;0
LOCATION:
ORGANIZER:
SEQUENCE:1
SUMMARY:Sting Operation – «Songs Without Words»
TRANSP:OPAQUE
URL:https://www.esse.bar/index.php/veranstaltungen/vergangene-veranstaltung
 en/1723-tba-33/2023-01-12-20-15
END:VEVENT
END:VCALENDAR
