BEGIN:VCALENDAR
VERSION:2.0
PRODID:-//ESSE Musicbar Winterthur//NONSGML kigkonsult.se iCalcreator 2.41.92//
CALSCALE:GREGORIAN
METHOD:PUBLISH
UID:34336361-3662-4464-b537-636439663561
X-WR-CALNAME:iCagenda
X-WR-CALDESC:Event Management Extension for Joomla!
X-WR-RELCALID:3E26604A-50F4-4449-8B3E-E4F4932D05B5
X-WR-TIMEZONE:Europe/Zurich
BEGIN:VTIMEZONE
TZID:Europe/Zurich
TZUNTIL:20241027T010000Z
BEGIN:STANDARD
TZNAME:CET
DTSTART:20221030T030000
TZOFFSETFROM:+0200
TZOFFSETTO:+0100
RDATE:20231029T030000
END:STANDARD
BEGIN:DAYLIGHT
TZNAME:CEST
DTSTART:20220327T020000
TZOFFSETFROM:+0100
TZOFFSETTO:+0200
RDATE:20230326T020000
RDATE:20240331T020000
END:DAYLIGHT
END:VTIMEZONE
BEGIN:VEVENT
UID:32383132-3436-4466-b032-393063643163
DTSTAMP:20260419T182556Z
CATEGORIES:Jazz
CLASS:PUBLIC
DESCRIPTION;ALTREP="CID:<FFFF__=0ABBE548DFE235B58f9e8a93d@coffeebean.com>":
 Christy Doran wurde in Dublin geboren und lebt seit seiner Kindheit in der
  Schweiz. Doran hat 1972 die heutige Musikschule Luzern mitbegründet\, wo 
 er 45 Jahre lang Gitarre\, Jazz und freie Improvisation unterrichtete. Der
  Schweizer Gitarrist zählt seit Jahrzehnten zu den herausragendsten Vertre
 tern seines Fachs.\nInternationale Bekanntheit erlangte Doran in den siebz
 iger Jahren\, als er zusammen mit dem Saxofonisten Urs Leimgruber\, dem Ba
 ssisten Bobby Burri und dem Schlagzeuger Fredy Studer die Band «OM» gründe
 te\, die schon freien Jazz mit Weltmusik verband\, als es diesen Begriff n
 och gar nicht gab. Seitdem hat der Gitarrist mit internationalen Grössen w
 ie John Surman\, Dom Um Romao\, Jasper van’t Hof\, Carla Bley\, Charlie Ma
 riano\, Ray Anderson\, Irène Schweizer\, Hank Roberts\, Wolfgang Dauner\, 
 Sonny Sharrock und Albert Mangelsdorff zusammengearbeitet. Immer wieder ha
 t er auch mit elektrischen Gruppen von sich reden gemacht\, zu deren bekan
 ntesten und langlebigsten wohl die Formation «New Bag» zählte.\nEine Passi
 on seit Beginn seiner Karriere war und ist das Solo-Spiel. Christy Doran i
 st dabei sowohl an der akustischen als auch an der elektrischen Gitarre zu
  hören und lässt zudem elektronische Effekte in seine Musik einfliessen. V
 on intensiv bis gelassen\, technisch brillant – Gitarrenmusik\, die sich s
 elbst genug ist.\nChristy Doran (ag\, eg\, efx)\nhttps://christydoran.ch
DTSTART:20230119T191500Z
DTEND:20230119T191500Z
GEO:00;0
LOCATION:
ORGANIZER:
SEQUENCE:1
SUMMARY:Christy Doran Solo – Guitar & Loops
TRANSP:OPAQUE
URL:https://www.esse.bar/index.php/veranstaltungen/vergangene-veranstaltung
 en/1724-christy-doran-solo-guitar-loops/2023-01-19-20-15
END:VEVENT
END:VCALENDAR
