BEGIN:VCALENDAR
VERSION:2.0
PRODID:-//ESSE Musicbar Winterthur//NONSGML kigkonsult.se iCalcreator 2.41.92//
CALSCALE:GREGORIAN
METHOD:PUBLISH
UID:35343562-3465-4133-a231-636237613431
X-WR-CALNAME:iCagenda
X-WR-CALDESC:Event Management Extension for Joomla!
X-WR-RELCALID:3E26604A-50F4-4449-8B3E-E4F4932D05B5
X-WR-TIMEZONE:Europe/Zurich
BEGIN:VTIMEZONE
TZID:Europe/Zurich
TZUNTIL:20241027T010000Z
BEGIN:STANDARD
TZNAME:CET
DTSTART:20221030T030000
TZOFFSETFROM:+0200
TZOFFSETTO:+0100
RDATE:20231029T030000
END:STANDARD
BEGIN:DAYLIGHT
TZNAME:CEST
DTSTART:20220327T020000
TZOFFSETFROM:+0100
TZOFFSETTO:+0200
RDATE:20230326T020000
RDATE:20240331T020000
END:DAYLIGHT
END:VTIMEZONE
BEGIN:VEVENT
UID:61643266-3466-4966-b535-656366643861
DTSTAMP:20260419T181415Z
CATEGORIES:Folk & More
CLASS:PUBLIC
DESCRIPTION;ALTREP="CID:<FFFF__=0ABBE548DFE235B58f9e8a93d@coffeebean.com>":
 «thE DorKs» bestehen aus drei Musikern\, die sich ihre Sporen längst abver
 dient haben und sich in den letzten Jahren intensiv mit der Verbreitung ih
 rer als «Nasty Folk» bezeichneten Musik beschäftigt haben. Mit Einflüssen 
 von Tom Waits\, Primus\, Kaizers Orchestra und John Frusciante wird ein Mu
 sikstil zelebriert\, der problemlos dem Indie-Rock zugeordnet werden darf 
 und die Zuhörer:innen mitzureissen und zu packen vermag.\nDas Trio erzählt
  schräge musikalische Geschichten\, kreiert Seefahrer-Lieder\, Rockabilly-
 Polkas und Rock-Hymnen. Abwechslungsreiche Beats\, raffinierte Basslinien 
 und eine schneidende Gitarre\, schaffen gemeinsam mit einem Dreifach-Gesan
 g einen spannenden und vielseitigen Sound\, der sich konstant steigert und
  zum Tanzen einlädt.\nSir Webbster (voc\, db\, eb)\, The Clerkman (g\, bvo
 c)\, Count Rufus\, (dr\, bvoc)\nhttps://thedorks.ch
DTSTART:20230122T183000Z
DTEND:20230122T183000Z
GEO:00;0
LOCATION:
ORGANIZER:
SEQUENCE:1
SUMMARY:thE DorKs – «Nasty Folk»
TRANSP:OPAQUE
URL:https://www.esse.bar/index.php/veranstaltungen/vergangene-veranstaltung
 en/1726-the-dorks/2023-01-22-19-30
END:VEVENT
END:VCALENDAR
