BEGIN:VCALENDAR
VERSION:2.0
PRODID:-//ESSE Musicbar Winterthur//NONSGML kigkonsult.se iCalcreator 2.41.92//
CALSCALE:GREGORIAN
METHOD:PUBLISH
UID:61613633-3261-4837-b337-643562346364
X-WR-CALNAME:iCagenda
X-WR-CALDESC:Event Management Extension for Joomla!
X-WR-RELCALID:3E26604A-50F4-4449-8B3E-E4F4932D05B5
X-WR-TIMEZONE:Europe/Zurich
BEGIN:VTIMEZONE
TZID:Europe/Zurich
TZUNTIL:20241027T010000Z
BEGIN:STANDARD
TZNAME:CET
DTSTART:20221030T030000
TZOFFSETFROM:+0200
TZOFFSETTO:+0100
RDATE:20231029T030000
END:STANDARD
BEGIN:DAYLIGHT
TZNAME:CEST
DTSTART:20220327T020000
TZOFFSETFROM:+0100
TZOFFSETTO:+0200
RDATE:20230326T020000
RDATE:20240331T020000
END:DAYLIGHT
END:VTIMEZONE
BEGIN:VEVENT
UID:35366537-3263-4039-b662-336564383332
DTSTAMP:20260419T181804Z
CATEGORIES:Jazz
CLASS:PUBLIC
DESCRIPTION;ALTREP="CID:<FFFF__=0ABBE548DFE235B58f9e8a93d@coffeebean.com>":
 Drei akustische Saiteninstrumente\, mehr brauchen «Die Drahtzieher» nicht\
 , um ihre instrumentalen Geschichten in die Herzen der Zuhörer zu tragen. 
 Damit folgen sie der Tradition des Legendären Hot Club de France des Sinti
 -Jazz Urvaters Django Reinhardt\, der in den 30er Jahren erstmals eine Jaz
 zband gründete\, die ausschliesslich aus Saiteninstrumenten bestand. In Wi
 ndeseile entwickelte Django Reinhardt seinen eigenen Stil weiter und blieb
  dadurch immer am Puls der Zeit.\nGenau dort knüpfen «Die Drahtzieher» an 
 und lassen den Sinti-Jazz in der Gegenwart aufleben. Das harmonische Funda
 ment trägt der Kontrabassist Kolja Legde. Nach seinem Jazzstudium in Berli
 n verliebte er sich in den Sinti-Jazz. Seine Erfahrungen aus anderen Stile
 n des Jazz tragen massgeblich zum charakteristischen Sound des Trios bei. 
 Bobby Guttenberger vereint mit seinem kraftvollen und präzisen Gitarrenspi
 el eine komplette Rhythmusgruppe. Mit seinem langjährigen Freund und Bandk
 ollegen David Klüttig versteht er sich blind. Die Kompositionen und Arrang
 ements von Klüttig\, der ebenso in der Klassik zu Hause ist\, bekommen im 
 Kollektiv ihren letzten Schliff. So trägt jeder Einzelne mit seinen Ideen\
 , die dank eines enormen kreativen Freiraums ganz naturwüchsig entstehen k
 önnen\, zu dem feinen Bandsound bei.\nDas Debüt-Album trägt nicht zufällig
  den Titel «Storyteller». Die drei Musiker sehen sich als Geschichtenerzäh
 ler. Es sind Geschichten ohne Worte\, kohärente Werke\, die mal virtuos\, 
 mal voller Gefühl vorgetragen werden. In der ESSE präsentieren sie die Mus
 ik ihres neuen CD- Albums «Out of Silence» welches am 20. Januar erscheine
 n wird. David Klüttig (g)\, Bobby Guttenberger (g)\, Kolja Legde (db)\nhtt
 ps://www.die-drahtzieher.com\n \n 
DTSTART:20230126T191500Z
DTEND:20230126T191500Z
GEO:00;0
LOCATION:
ORGANIZER:
SEQUENCE:1
SUMMARY:Die Drahtzieher – «Out of Silence»
TRANSP:OPAQUE
URL:https://www.esse.bar/index.php/veranstaltungen/vergangene-veranstaltung
 en/1728-die-drahtzieher/2023-01-26-20-15
END:VEVENT
END:VCALENDAR
