BEGIN:VCALENDAR
VERSION:2.0
PRODID:-//ESSE Musicbar Winterthur//NONSGML kigkonsult.se iCalcreator 2.41.92//
CALSCALE:GREGORIAN
METHOD:PUBLISH
UID:39356636-3736-4165-b034-656466313665
X-WR-CALNAME:iCagenda
X-WR-CALDESC:Event Management Extension for Joomla!
X-WR-RELCALID:3E26604A-50F4-4449-8B3E-E4F4932D05B5
X-WR-TIMEZONE:Europe/Zurich
BEGIN:VTIMEZONE
TZID:Europe/Zurich
TZUNTIL:20241027T010000Z
BEGIN:STANDARD
TZNAME:CET
DTSTART:20221030T030000
TZOFFSETFROM:+0200
TZOFFSETTO:+0100
RDATE:20231029T030000
END:STANDARD
BEGIN:DAYLIGHT
TZNAME:CEST
DTSTART:20220327T020000
TZOFFSETFROM:+0100
TZOFFSETTO:+0200
RDATE:20230326T020000
RDATE:20240331T020000
END:DAYLIGHT
END:VTIMEZONE
BEGIN:VEVENT
UID:62393738-6134-4531-b861-323865353264
DTSTAMP:20260419T165629Z
CATEGORIES:young people on stage
CLASS:PUBLIC
DESCRIPTION;ALTREP="CID:<FFFF__=0ABBE548DFE235B58f9e8a93d@coffeebean.com>":
 Jung und frisch: die 3 Bands des Pop/Jazz-Bereichs vom Konservatorium Wint
 erthur (Pre-College\, Förderprogramm\, FMS Profil Musik) konzertieren zum 
 Abschluss des Semesters in den heiligen Jazzhallen der Esse Musicbar. Geni
 essen wir einen groovigen Abend mit den Hepcats\, Boosters und Conservator
 s.\nSeit mehreren Jahrzehnten ist das Konservatorium Winterthur in der bre
 iten musikalischen Ausbildung von Kindern und Jugendlichen aktiv und auch 
 in der Studienvorbereitung. Schon hunderte junge Musikerinnen und Musiker 
 haben aus dem Vorstudium/Pre-College des Konservatoriums Winterthur den Sp
 rung an Musikhochschulen im In- und Ausland geschafft.\nMitwirkendeHepcats
  (Leitung Raffaele Lunardi): Valerie\, Vianne\, Noah\, Leon\, Liam\, Robin
  Conservators (Leitung Carlo Filaferro): Chiara\, Sarah\, Elias\, Noah\, N
 oé\, Deron Boosters (Leitung Tobias Hunziker): Miriam\, Benjamin\, Laura\,
  Amos
DTSTART:20230130T183000Z
DTEND:20230130T183000Z
GEO:00;0
LOCATION:
ORGANIZER:
SEQUENCE:1
SUMMARY:Konsi Bandnight
TRANSP:OPAQUE
URL:https://www.esse.bar/index.php/veranstaltungen/vergangene-veranstaltung
 en/1732-konsi-bandnight/2023-01-30-19-30
END:VEVENT
END:VCALENDAR
