BEGIN:VCALENDAR
VERSION:2.0
PRODID:-//ESSE Musicbar Winterthur//NONSGML kigkonsult.se iCalcreator 2.41.92//
CALSCALE:GREGORIAN
METHOD:PUBLISH
UID:65323166-6666-4538-b164-633165343465
X-WR-CALNAME:iCagenda
X-WR-CALDESC:Event Management Extension for Joomla!
X-WR-RELCALID:3E26604A-50F4-4449-8B3E-E4F4932D05B5
X-WR-TIMEZONE:Europe/Zurich
BEGIN:VTIMEZONE
TZID:Europe/Zurich
TZUNTIL:20241027T010000Z
BEGIN:STANDARD
TZNAME:CET
DTSTART:20221030T030000
TZOFFSETFROM:+0200
TZOFFSETTO:+0100
RDATE:20231029T030000
END:STANDARD
BEGIN:DAYLIGHT
TZNAME:CEST
DTSTART:20220327T020000
TZOFFSETFROM:+0100
TZOFFSETTO:+0200
RDATE:20230326T020000
RDATE:20240331T020000
END:DAYLIGHT
END:VTIMEZONE
BEGIN:VEVENT
UID:33323961-3962-4933-b962-303335373839
DTSTAMP:20260419T164421Z
CATEGORIES:Blues
CLASS:PUBLIC
DESCRIPTION;ALTREP="CID:<FFFF__=0ABBE548DFE235B58f9e8a93d@coffeebean.com>":
 Die «Furhammer Blues Band» zelebriert in ihren explosiven Liveshows Blues 
 vom Feinsten auf musikalisch höchstem Niveau. Voller Energie und Spielfreu
 de sowie einer guten Prise Humor unterhalten die fünf Männer mit Eigenkomp
 ositionen und Coverversionen und zelebrieren die verschiedensten Ausprägun
 gen der Bluesmusik.\n2016 erschien das Debutalbum «Tarred &amp\; Feathered
 »\, dessen Single «Shanghai Rhythm» bis heute auf Radio Swiss Jazz zu höre
 n ist. Die Band\, die vorwiegend aus professionellen Musikern besteht\, is
 t seit Jahren auf Schweizer Bühnen unterwegs und ständig auf der Suche nac
 h neuen Abenteuern. Fündig wurde sie jüngst in der Zusammenarbeit mit den 
 Rappern von «Schall &amp\; Rauch»\, für die sie den musikalischen Boden fü
 r die gehobene Sprechgesangskunst bereiten durften.\n«Furhammer» (deutsch 
 «pelziger Hammer») spielen Blues – mit Haut und Haar. In den Coverversione
 n orientieren sie sich teilweise in Richtung Delta- und Chicago-Blues und 
 in ihren eigenen neuen Stücken zeigen sie sich offen für modernere Strömun
 gen und spielen rockige und funkige Klänge. Egal ob laut oder leise\, ob s
 chnell oder langsam – wenn die fünf Männer auf die Bühne treten\, dann loh
 nt es sich hinzuhören und hinzusehen. Dann lebt die Musik\, lebt der Blues
 . Und dann ist auch der Furhammer nicht weit.\nSven Tschudi (voc)\, Lars H
 ermann (g)\, Daniel Zihlmann (keyb)\, Jürg Hurter (b)\, Marco Scarlato (dr
 )\nhttp://www.furhammer.com
DTSTART:20230202T191500Z
DTEND:20230202T191500Z
GEO:00;0
LOCATION:
ORGANIZER:
SEQUENCE:1
SUMMARY:Furhammer Blues Band
TRANSP:OPAQUE
URL:https://www.esse.bar/index.php/veranstaltungen/vergangene-veranstaltung
 en/1733-furhammer-blues-band/2023-02-02-20-15
END:VEVENT
END:VCALENDAR
