BEGIN:VCALENDAR
VERSION:2.0
PRODID:-//ESSE Musicbar Winterthur//NONSGML kigkonsult.se iCalcreator 2.41.92//
CALSCALE:GREGORIAN
METHOD:PUBLISH
UID:63613164-3731-4566-b066-346332306430
X-WR-CALNAME:iCagenda
X-WR-CALDESC:Event Management Extension for Joomla!
X-WR-RELCALID:3E26604A-50F4-4449-8B3E-E4F4932D05B5
X-WR-TIMEZONE:Europe/Zurich
BEGIN:VTIMEZONE
TZID:Europe/Zurich
TZUNTIL:20241027T010000Z
BEGIN:STANDARD
TZNAME:CET
DTSTART:20221030T030000
TZOFFSETFROM:+0200
TZOFFSETTO:+0100
RDATE:20231029T030000
END:STANDARD
BEGIN:DAYLIGHT
TZNAME:CEST
DTSTART:20220327T020000
TZOFFSETFROM:+0100
TZOFFSETTO:+0200
RDATE:20230326T020000
RDATE:20240331T020000
END:DAYLIGHT
END:VTIMEZONE
BEGIN:VEVENT
UID:30346236-3132-4261-b933-346664393331
DTSTAMP:20260419T164541Z
CATEGORIES:Jazz
CLASS:PUBLIC
DESCRIPTION;ALTREP="CID:<FFFF__=0ABBE548DFE235B58f9e8a93d@coffeebean.com>":
 Für die neueste Folge ihrer Reihe «Don’t Forget The Poets» haben Christian
  Rösli (p) und Andreas Zitz (db) die Brüder Michael Jaeger (Saxophone und 
 Klarinette) und Chris Jaeger (Perkussion\, Schlagzeug) eingeladen. Beide s
 pielen seit bald vierzig Jahren zusammen Musik.\nAls «Karamasow» entwickel
 ten die zwei Jaeger ein höchst differenziertes und intuitives Zusammenspie
 l\, das sich über die Jahre ständig veränderte und an Kraft gewann. Die Im
 provisation war dabei bereits im Kindesalter stets die zentrale musikalisc
 he Form. Aus ihr entsteht eine Weltmusik\, die im Jazz und der afrikanisch
 en Musik verwurzelt ist. Unter ihren zahlreichen Konzerten im Duo\, war ih
 r Auftritt für den Dalai Lama anlässlich seines Besuches in Zürich im 2005
  unvergesslich.\nChristian Rösli (p)\, Michael Jaeger (ts)\, Andreas Zitz 
 (db)\, Chris Jaeger (dr\, perc)\nhttps://michaeljaeger.chhttp://www.chrisj
 aeger.ch\nhttps://www.dont-forget-the-poets.ch
DTSTART:20230203T191500Z
DTEND:20230203T191500Z
GEO:00;0
LOCATION:
ORGANIZER:
SEQUENCE:1
SUMMARY:Don’t Forget The Poets #19 feat. Michael Jaeger (ts) & Chris Jaeger
  (perc)
TRANSP:OPAQUE
URL:https://www.esse.bar/index.php/veranstaltungen/vergangene-veranstaltung
 en/1734-don-t-forget-the-poets-6/2023-02-03-20-15
END:VEVENT
END:VCALENDAR
