BEGIN:VCALENDAR
VERSION:2.0
PRODID:-//ESSE Musicbar Winterthur//NONSGML kigkonsult.se iCalcreator 2.41.92//
CALSCALE:GREGORIAN
METHOD:PUBLISH
UID:65316137-3435-4061-a633-626162646634
X-WR-CALNAME:iCagenda
X-WR-CALDESC:Event Management Extension for Joomla!
X-WR-RELCALID:3E26604A-50F4-4449-8B3E-E4F4932D05B5
X-WR-TIMEZONE:Europe/Zurich
BEGIN:VTIMEZONE
TZID:Europe/Zurich
TZUNTIL:20241027T010000Z
BEGIN:STANDARD
TZNAME:CET
DTSTART:20221030T030000
TZOFFSETFROM:+0200
TZOFFSETTO:+0100
RDATE:20231029T030000
END:STANDARD
BEGIN:DAYLIGHT
TZNAME:CEST
DTSTART:20220327T020000
TZOFFSETFROM:+0100
TZOFFSETTO:+0200
RDATE:20230326T020000
RDATE:20240331T020000
END:DAYLIGHT
END:VTIMEZONE
BEGIN:VEVENT
UID:32616633-3936-4335-a137-626534323964
DTSTAMP:20260419T163822Z
CATEGORIES:Jazz
CLASS:PUBLIC
DESCRIPTION;ALTREP="CID:<FFFF__=0ABBE548DFE235B58f9e8a93d@coffeebean.com>":
 «If you lend us your ears\, we will pour our hearts out to you.»\nIn seine
 m brandneuen Duo-Projekt «Bicycle Fantasies» lädt Pino Zortea ein auf eine
  musikalische Reise fern von Zeit\, Raum und warum. Die humorvollen textli
 chen Perspektiven und die poetisch berührenden Stücke\, vorgetragen von Zo
 rteas und Francesca Gazas intimen Stimmen\, verschmelzen wunderschön mit d
 en harmoniereichen Klängen des Basses und des Klaviers. Das Duo mit einem 
 träumerischen «Indie-Jazz»-Herzen verführt die Zuhörerenden in eine Welt\,
  die bloss durch Musik zugänglich ist.\nVideo: https://www.youtube.com/wat
 ch?v=iguQeemXk_0\nFrancesca Gaza (p\, voc)\, Pino Zortea (eb\, voc\, comp)
 \nhttps://de.pinozortea.comhttps://francescagaza.com\n \n 
DTSTART:20230209T191500Z
DTEND:20230209T191500Z
GEO:00;0
LOCATION:
ORGANIZER:
SEQUENCE:1
SUMMARY:Bicycle Fantasies
TRANSP:OPAQUE
URL:https://www.esse.bar/index.php/veranstaltungen/vergangene-veranstaltung
 en/1736-tba-36/2023-02-09-20-15
END:VEVENT
END:VCALENDAR
