BEGIN:VCALENDAR
VERSION:2.0
PRODID:-//ESSE Musicbar Winterthur//NONSGML kigkonsult.se iCalcreator 2.41.92//
CALSCALE:GREGORIAN
METHOD:PUBLISH
UID:33666266-6434-4239-a633-626562646434
X-WR-CALNAME:iCagenda
X-WR-CALDESC:Event Management Extension for Joomla!
X-WR-RELCALID:3E26604A-50F4-4449-8B3E-E4F4932D05B5
X-WR-TIMEZONE:Europe/Zurich
BEGIN:VTIMEZONE
TZID:Europe/Zurich
TZUNTIL:20241027T010000Z
BEGIN:STANDARD
TZNAME:CET
DTSTART:20221030T030000
TZOFFSETFROM:+0200
TZOFFSETTO:+0100
RDATE:20231029T030000
END:STANDARD
BEGIN:DAYLIGHT
TZNAME:CEST
DTSTART:20220327T020000
TZOFFSETFROM:+0100
TZOFFSETTO:+0200
RDATE:20230326T020000
RDATE:20240331T020000
END:DAYLIGHT
END:VTIMEZONE
BEGIN:VEVENT
UID:64613235-3935-4965-b432-613164323061
DTSTAMP:20260419T164403Z
CATEGORIES:Jazz
CLASS:PUBLIC
DESCRIPTION;ALTREP="CID:<FFFF__=0ABBE548DFE235B58f9e8a93d@coffeebean.com>":
 Argentinien - Holland - Schweiz\nDer holländische Saxophonist Frido ter Be
 ek und die Schweizer Geigerin Sophie Lüssi haben sich in Buenos Aires kenn
 engelernt\, wo beide seit vielen Jahren leben\, bzw. gelebt haben. Frido h
 at auf Sophies letzter CD «Altas Horas» gespielt. Nun ist Frido auf Tourné
 e in der Schweiz und es ist naheliegend\, dass sich die beiden Musiker:inn
 en bei dieser Gelegenheit für ein Konzert mit Kompositionen beider Musiker
  zusammenfinden.\nFrido findet Inspiration für seine Musik im Jazz und in 
 der Fusion\, aber auch in der zeitgenössischen klassischen Musik. Auch Sop
 hies Musik bewegt sich auf der Grenze zwischen Jazz und der klassischen Mo
 derne\, und ist zudem auch von der argentinischen Folkore inspiriert. Für 
 dieses Konzert in der ESSE können die beiden auf eine ausgezeichnete Rhyth
 m-Section zählen: Andreas Zitz am Kontrabass und Andreas Wettstein am Schl
 agzeug.\nFrido ter Beek (s)\, Sophie Lüssi (vl\, tvl)\, Andreas Zitz (db)\
 , Andreas Wettstein (dr)\nhttps://www.fridoterbeek.comhttps://www.sophielu
 ssi.nethttps://andreaszitz.chhttps://www.keepdrumming.ch
DTSTART:20230210T191500Z
DTEND:20230210T191500Z
GEO:00;0
LOCATION:
ORGANIZER:
SEQUENCE:1
SUMMARY:Ter Beek - Lüssi Quartett
TRANSP:OPAQUE
URL:https://www.esse.bar/index.php/veranstaltungen/vergangene-veranstaltung
 en/1737-sophie-luessi-quartett/2023-02-10-20-15
END:VEVENT
END:VCALENDAR
