BEGIN:VCALENDAR
VERSION:2.0
PRODID:-//ESSE Musicbar Winterthur//NONSGML kigkonsult.se iCalcreator 2.41.92//
CALSCALE:GREGORIAN
METHOD:PUBLISH
UID:30303365-3031-4233-b664-386233323834
X-WR-CALNAME:iCagenda
X-WR-CALDESC:Event Management Extension for Joomla!
X-WR-RELCALID:3E26604A-50F4-4449-8B3E-E4F4932D05B5
X-WR-TIMEZONE:Europe/Zurich
BEGIN:VTIMEZONE
TZID:Europe/Zurich
TZUNTIL:20241027T010000Z
BEGIN:STANDARD
TZNAME:CET
DTSTART:20221030T030000
TZOFFSETFROM:+0200
TZOFFSETTO:+0100
RDATE:20231029T030000
END:STANDARD
BEGIN:DAYLIGHT
TZNAME:CEST
DTSTART:20220327T020000
TZOFFSETFROM:+0100
TZOFFSETTO:+0200
RDATE:20230326T020000
RDATE:20240331T020000
END:DAYLIGHT
END:VTIMEZONE
BEGIN:VEVENT
UID:37316439-3334-4430-a666-323138383637
DTSTAMP:20260419T165554Z
CATEGORIES:Folk & More
CLASS:PUBLIC
DESCRIPTION;ALTREP="CID:<FFFF__=0ABBE548DFE235B58f9e8a93d@coffeebean.com>":
 Obwohl beide im Zürcher Oberland leben\, gingen die zwei musikalischen Cou
 sinen lange Zeit getrennte Wege: Nanina Ghelfi begeistert schon lange als 
 Rock- und Soulsängerin\, spielt Worldmusic\, komponiert und taucht beim Ma
 ntrasingen in die meditative Seite der Musik ein. Tanja Wirz hat sich als 
 Bluessängerin und Multi-Instrumentalistin bei den «Red Hot Serenaders» ein
 en Namen gemacht.\nAber jetzt wollen es die beiden Soul-Sisters wissen! Oh
 ne stilistische Scheuklappen bringen sie gemeinsame Lieblingssongs mit ver
 einter Frauen-Stimm-Power\, Gitarre\, Ukulele und Mandoline auf die Bühne.
 \nTanja Wirz (voc\, g\, mand)\, Nanina Ghelfi (voc\, uku)\nhttps://www.red
 hotserenaders.chhttps://www.klangfeld.ch/ueber-mich/nanina-ghelfi/
DTSTART:20230212T183000Z
DTEND:20230212T183000Z
GEO:00;0
LOCATION:
ORGANIZER:
SEQUENCE:1
SUMMARY:Tanja Wirz & Nanina Ghelfi – The Cousin Sisters
TRANSP:OPAQUE
URL:https://www.esse.bar/index.php/veranstaltungen/vergangene-veranstaltung
 en/1738-tanja-wirz-nanina-ghelfi-the-cousin-sisters/2023-02-12-19-30
END:VEVENT
END:VCALENDAR
