BEGIN:VCALENDAR
VERSION:2.0
PRODID:-//ESSE Musicbar Winterthur//NONSGML kigkonsult.se iCalcreator 2.41.92//
CALSCALE:GREGORIAN
METHOD:PUBLISH
UID:34636432-6565-4665-a334-653764353262
X-WR-CALNAME:iCagenda
X-WR-CALDESC:Event Management Extension for Joomla!
X-WR-RELCALID:3E26604A-50F4-4449-8B3E-E4F4932D05B5
X-WR-TIMEZONE:Europe/Zurich
BEGIN:VTIMEZONE
TZID:Europe/Zurich
TZUNTIL:20241027T010000Z
BEGIN:STANDARD
TZNAME:CET
DTSTART:20221030T030000
TZOFFSETFROM:+0200
TZOFFSETTO:+0100
RDATE:20231029T030000
END:STANDARD
BEGIN:DAYLIGHT
TZNAME:CEST
DTSTART:20220327T020000
TZOFFSETFROM:+0100
TZOFFSETTO:+0200
RDATE:20230326T020000
RDATE:20240331T020000
END:DAYLIGHT
END:VTIMEZONE
BEGIN:VEVENT
UID:33383563-3437-4236-a135-323665623466
DTSTAMP:20260419T163821Z
CATEGORIES:Jazz
CLASS:PUBLIC
DESCRIPTION;ALTREP="CID:<FFFF__=0ABBE548DFE235B58f9e8a93d@coffeebean.com>":
 Die begeisternde Sängerin Milena Dürst interpretiert zusammen mit dem poln
 ischen Ausnahmegitarristen Slawek Plizga und mit ihrem Vater\, dem grooven
 den Kontrabassisten Thomas Dürst nur die allerschönsten Jazz-Songs.\nMit b
 ekannten Hits auf Englisch oder raffiniert ins Berndeutsche übersetzt feie
 rt die Band den Swing und berührt die Herzen. Zu hören gibt es auch Eigenk
 ompositionen oder Evergreens\, die von Ella Fitzgerald oder Hildegard Knef
  gesungen wurden. Ein Trio wie ein Regenbogen: strahlend\, rund und farbig
 . Düplidü!\nMilena Dürst (voc)\, Slawek Plizga (g)\, Thomas Dürst (db)\nht
 tps://youtube.com/playlist?list=PL-PIpIDfXyh-y_7AXu7WxBqliSpm8wErg
DTSTART:20230216T191500Z
DTEND:20230216T191500Z
GEO:00;0
LOCATION:
ORGANIZER:
SEQUENCE:1
SUMMARY:Dürst-Plizga-Dürst a.k.a. «Düplidü»
TRANSP:OPAQUE
URL:https://www.esse.bar/index.php/veranstaltungen/vergangene-veranstaltung
 en/1739-tba-38/2023-02-16-20-15
END:VEVENT
END:VCALENDAR
