BEGIN:VCALENDAR
VERSION:2.0
PRODID:-//ESSE Musicbar Winterthur//NONSGML kigkonsult.se iCalcreator 2.41.92//
CALSCALE:GREGORIAN
METHOD:PUBLISH
UID:66656430-6139-4262-a566-633761633265
X-WR-CALNAME:iCagenda
X-WR-CALDESC:Event Management Extension for Joomla!
X-WR-RELCALID:3E26604A-50F4-4449-8B3E-E4F4932D05B5
X-WR-TIMEZONE:Europe/Zurich
BEGIN:VTIMEZONE
TZID:Europe/Zurich
TZUNTIL:20241027T010000Z
BEGIN:STANDARD
TZNAME:CET
DTSTART:20221030T030000
TZOFFSETFROM:+0200
TZOFFSETTO:+0100
RDATE:20231029T030000
END:STANDARD
BEGIN:DAYLIGHT
TZNAME:CEST
DTSTART:20220327T020000
TZOFFSETFROM:+0100
TZOFFSETTO:+0200
RDATE:20230326T020000
RDATE:20240331T020000
END:DAYLIGHT
END:VTIMEZONE
BEGIN:VEVENT
UID:31633165-3636-4533-b236-363433313265
DTSTAMP:20260419T163837Z
CATEGORIES:Jazz
CLASS:PUBLIC
DESCRIPTION;ALTREP="CID:<FFFF__=0ABBE548DFE235B58f9e8a93d@coffeebean.com>":
 8-ung: Infolge Erkrankung von Patrick Oriet (g\, voc) spielen «Pat &amp\; 
 The Ricks» das heutige Konzert ohne ihren Bandleader. Als «Ersatz»-Musiker
  kommt dafür Christoph «Kriz Flew» Flueler an der Trompete hinzu.\n«Pat &a
 mp\; The Ricks» spüren konsequent den musikalischen Leidenschaften und Vor
 lieben ihrer Mitglieder nach. Aus einem vor zwölf Jahren für ein spontanes
  Geburtstagskonzert entstandenen Duo\, ist eine im besten Sinne eingespiel
 te „Working-Band“ entstanden\, die dem Jazz\, Blues\, Funk und Soul Tribut
  zollt.\nStilmässige Offenheit und Neugier mischt sich bei diesem leidensc
 haftlichen Quartett mit einem bodenständigen Groove\, ungezügelter Spielfr
 eude und einem dreistimmigen Background-Chor\, mit dem die Ricks ihren Fro
 ntmann harmonisch unterstützen.\nChristoph «Kriz Flew» Flueler (tp)\, Stef
 an Blum (p\, keyb\, voc)\, René Bernhardsgrütter (b\, voc)\, Michael Felde
 r (dr\, voc)\nhttp://www.pat-ricks-band.ch
DTSTART:20230217T191500Z
DTEND:20230217T191500Z
GEO:00;0
LOCATION:
ORGANIZER:
SEQUENCE:1
SUMMARY:Pat & The Ricks (veränderte Besetzung)
TRANSP:OPAQUE
URL:https://www.esse.bar/index.php/veranstaltungen/vergangene-veranstaltung
 en/1740-tba-39/2023-02-17-20-15
END:VEVENT
END:VCALENDAR
