BEGIN:VCALENDAR
VERSION:2.0
PRODID:-//ESSE Musicbar Winterthur//NONSGML kigkonsult.se iCalcreator 2.41.92//
CALSCALE:GREGORIAN
METHOD:PUBLISH
UID:32363662-3538-4139-b132-616336623230
X-WR-CALNAME:iCagenda
X-WR-CALDESC:Event Management Extension for Joomla!
X-WR-RELCALID:3E26604A-50F4-4449-8B3E-E4F4932D05B5
X-WR-TIMEZONE:Europe/Zurich
BEGIN:VTIMEZONE
TZID:Europe/Zurich
TZUNTIL:20241027T010000Z
BEGIN:STANDARD
TZNAME:CET
DTSTART:20221030T030000
TZOFFSETFROM:+0200
TZOFFSETTO:+0100
RDATE:20231029T030000
END:STANDARD
BEGIN:DAYLIGHT
TZNAME:CEST
DTSTART:20220327T020000
TZOFFSETFROM:+0100
TZOFFSETTO:+0200
RDATE:20230326T020000
RDATE:20240331T020000
END:DAYLIGHT
END:VTIMEZONE
BEGIN:VEVENT
UID:36653864-6263-4564-b932-653463353061
DTSTAMP:20260419T163649Z
CATEGORIES:Folk & More
CLASS:PUBLIC
DESCRIPTION;ALTREP="CID:<FFFF__=0ABBE548DFE235B58f9e8a93d@coffeebean.com>":
 Wie viele Kilometer sie als Musikerin in den letzten knapp 30 Jahren abges
 pult hat\, weiss Bettina Schelker wohl selber nicht so genau. Drei Kontine
 nte (Australien\, Nordamerika inklusive Hawaii\, Europa)\, rund 1’250 Konz
 erte insgesamt und 1 Meer. Sie ist oft und fern auf Konzertreise\, in gute
 r\, alter und wieder angesagter Do-It-Yourself-Manier.\nFakt ist\, dass di
 e Schweizer Musikszene nur wenige Musikerinnen im Angebot hat\, die so oft
  und fern auf Konzertreise sind und so lange und stark für ihre Kunst bren
 nen wie Bettina Schelker\, und zwar in guter\, alter und wieder angesagter
  Do-It-Yourself-Manier. Schliesslich betreibt die Musikerin seit 20 Jahren
  auch ihr eigenes Plattenlabel. Damit niemand auf die Idee käme\, ihr dumm
  reinzureden.\nBettina Schelker ist widerspenstig im Sinne des Mainstreams
  – doch ihre Fangemeinde schätzt das oft sehr intime\, melancholische und 
 ehrliche Wesen ihrer Songs. Und «Everybody’s Darling «war sie nie. Da blei
 bt sie lieber Rockerin\, Aktivistin\, Poetin\, on the road\, unabhängig un
 d frei im Geist. Glaubwürdigkeit ist vielleicht ihr auffälligster Charakte
 rzug. Und Freiheit ihr grösster Drang.\nVon ihrem ersten Album «Durst» übe
 r den Durchbruch mit «Angeline» bis zum aktuellen «Anonymous» sind viele J
 ahre vergangen\, und immer noch begeistert sie durch ungebrochenes Engagem
 ent\, sei es als Rockerin\, Aktivistin oder Poetin. Gimme shelker!\nBettin
 a Schelker (voc\, g)\, Mike Bischof (g\, bvoc)\, Marcel Suk (b\, bvoc)\, D
 avid Dreyer (dr)\nhttps://bettinaschelker.com
DTSTART:20230219T183000Z
DTEND:20230219T183000Z
GEO:00;0
LOCATION:
ORGANIZER:
SEQUENCE:1
SUMMARY:Bettina Schelker & Band – «Anonymous»
TRANSP:OPAQUE
URL:https://www.esse.bar/index.php/veranstaltungen/vergangene-veranstaltung
 en/1741-tba-40/2023-02-19-19-30
END:VEVENT
END:VCALENDAR
