BEGIN:VCALENDAR
VERSION:2.0
PRODID:-//ESSE Musicbar Winterthur//NONSGML kigkonsult.se iCalcreator 2.41.92//
CALSCALE:GREGORIAN
METHOD:PUBLISH
UID:39393161-6338-4462-a233-643561633139
X-WR-CALNAME:iCagenda
X-WR-CALDESC:Event Management Extension for Joomla!
X-WR-RELCALID:3E26604A-50F4-4449-8B3E-E4F4932D05B5
X-WR-TIMEZONE:Europe/Zurich
BEGIN:VTIMEZONE
TZID:Europe/Zurich
TZUNTIL:20241027T010000Z
BEGIN:STANDARD
TZNAME:CET
DTSTART:20221030T030000
TZOFFSETFROM:+0200
TZOFFSETTO:+0100
RDATE:20231029T030000
END:STANDARD
BEGIN:DAYLIGHT
TZNAME:CEST
DTSTART:20220327T020000
TZOFFSETFROM:+0100
TZOFFSETTO:+0200
RDATE:20230326T020000
RDATE:20240331T020000
END:DAYLIGHT
END:VTIMEZONE
BEGIN:VEVENT
UID:64363032-6163-4666-a565-616464303636
DTSTAMP:20260419T164150Z
CATEGORIES:Jazz
CLASS:PUBLIC
DESCRIPTION;ALTREP="CID:<FFFF__=0ABBE548DFE235B58f9e8a93d@coffeebean.com>":
 Die Kompositionen für «Blossom» sind im Frühling 2020 entstanden. Christop
 h Grab hat nicht etwa nach diesen Kompositionen gesucht\, sie kamen in unr
 egelmässigen Abständen während des ersten Corona-Lockdowns zu ihm\, meist 
 ungefragt - aufblühend wie Blumen\, die nach dem Winter wieder Hoffnung ve
 rbreiten. Später bemerkte er\, dass diese neuen Kompositionen viel mit sei
 nen Stimmungen während des Lockdowns zu tun hatten\, sodass diese Stücke u
 ngewollt zu einer Art Tagebuch seiner Lockdown-Zeit wurden.\nDie Blumenmet
 apher sei ihm nicht mehr aus dem Kopf gegangen\, so der Saxophonist\, und 
 so heisst das neue Programm jetzt «BLOSSOM» (dt. aufblühen\, Blüte). Weite
 r haben auch die Kompositionen (die ursprünglich ohne Namen entstanden war
 en) englische Blumennamen erhalten\, wie etwa «Feverfew»\, «Love in the mi
 st»\, «Bleeding heart»\, «Mad dog skullcap»\, «African daisy» oder «Johnny
  jump up».\nDie Musik von «Blossom» ist Transportmittel für Geschichten un
 d Emotionen\, eine abenteuerliche Musik voller Wärme\, die auf Freundschaf
 t und gegenseitige Unterstützung aufbaut\, für eine Band\, die zu einer Ei
 nheit\, zum atmenden Organismus wird.\nChristoph Grab (s)\, Ralph Alessi (
 tp)\, Lukas Traxel (db)\, Pius Baschnagel (dr)Special guest: Florian Favre
  (p)\nhttps://www.christophgrab.com/en/bands/blossom
DTSTART:20230222T191500Z
DTEND:20230222T191500Z
GEO:00;0
LOCATION:
ORGANIZER:
SEQUENCE:1
SUMMARY:Christoph Grab’s BLOSSOM
TRANSP:OPAQUE
URL:https://www.esse.bar/index.php/veranstaltungen/vergangene-veranstaltung
 en/1742-christoph-grab-blossom/2023-02-22-20-15
END:VEVENT
END:VCALENDAR
