BEGIN:VCALENDAR
VERSION:2.0
PRODID:-//ESSE Musicbar Winterthur//NONSGML kigkonsult.se iCalcreator 2.41.92//
CALSCALE:GREGORIAN
METHOD:PUBLISH
UID:33363364-6364-4163-b139-393932646365
X-WR-CALNAME:iCagenda
X-WR-CALDESC:Event Management Extension for Joomla!
X-WR-RELCALID:3E26604A-50F4-4449-8B3E-E4F4932D05B5
X-WR-TIMEZONE:Europe/Zurich
BEGIN:VTIMEZONE
TZID:Europe/Zurich
TZUNTIL:20241027T010000Z
BEGIN:STANDARD
TZNAME:CET
DTSTART:20221030T030000
TZOFFSETFROM:+0200
TZOFFSETTO:+0100
RDATE:20231029T030000
END:STANDARD
BEGIN:DAYLIGHT
TZNAME:CEST
DTSTART:20220327T020000
TZOFFSETFROM:+0100
TZOFFSETTO:+0200
RDATE:20230326T020000
RDATE:20240331T020000
END:DAYLIGHT
END:VTIMEZONE
BEGIN:VEVENT
UID:35333664-3163-4538-b661-393664393264
DTSTAMP:20260419T164734Z
CATEGORIES:Jazz
CLASS:PUBLIC
DESCRIPTION;ALTREP="CID:<FFFF__=0ABBE548DFE235B58f9e8a93d@coffeebean.com>":
 Für einmal stehen nicht die Schüler:innen auf der ESSE-Bühne\, sondern hau
 ptsächlich Lehrpersonen der Jugendmusikschule Winterthur und Umgebung. Die
  Band «City Funk Beats» feierte vor rund einem Jahr bei uns ihre Premiere 
 und legt jetzt nach.\nDie sechs Musiker:innen spielen\, was ihnen schon im
 mer am Herzen lag und in den Fingern juckte: Jazz\, Soul\, Funk und Fusion
 !\nNadine Arnet (voc)\, Christoph Battaglia (g)\, Vaclav Kolek (s\, tp\, t
 b)\, Benjamin Kobi (p\, keyb)\, Stan Sandronov (b)\, Walter Vitale (dr)\nh
 ttps://www.jugendmusikschule.chhttps://www.nadinearnet.ch
DTSTART:20230224T191500Z
DTEND:20230224T191500Z
GEO:00;0
LOCATION:
ORGANIZER:
SEQUENCE:1
SUMMARY:City Funk Beats – Teachers On Stage
TRANSP:OPAQUE
URL:https://www.esse.bar/index.php/veranstaltungen/vergangene-veranstaltung
 en/1744-city-funk-beats-2/2023-02-24-20-15
END:VEVENT
END:VCALENDAR
