BEGIN:VCALENDAR
VERSION:2.0
PRODID:-//ESSE Musicbar Winterthur//NONSGML kigkonsult.se iCalcreator 2.41.92//
CALSCALE:GREGORIAN
METHOD:PUBLISH
UID:37323539-3363-4332-a562-343136643665
X-WR-CALNAME:iCagenda
X-WR-CALDESC:Event Management Extension for Joomla!
X-WR-RELCALID:3E26604A-50F4-4449-8B3E-E4F4932D05B5
X-WR-TIMEZONE:Europe/Zurich
BEGIN:VTIMEZONE
TZID:Europe/Zurich
TZUNTIL:20241027T010000Z
BEGIN:STANDARD
TZNAME:CET
DTSTART:20221030T030000
TZOFFSETFROM:+0200
TZOFFSETTO:+0100
RDATE:20231029T030000
END:STANDARD
BEGIN:DAYLIGHT
TZNAME:CEST
DTSTART:20220327T020000
TZOFFSETFROM:+0100
TZOFFSETTO:+0200
RDATE:20230326T020000
RDATE:20240331T020000
END:DAYLIGHT
END:VTIMEZONE
BEGIN:VEVENT
UID:64613361-3033-4633-a632-303136643763
DTSTAMP:20260419T164219Z
CATEGORIES:Jazz
CLASS:PUBLIC
DESCRIPTION;ALTREP="CID:<FFFF__=0ABBE548DFE235B58f9e8a93d@coffeebean.com>":
 Der aus Neuseeland stammende Pianist Alex Ventling bringt sein aufregendes
 \, junges europäische Klaviertrio in die ESSE. Begleitet vom britischen Sc
 hlagzeuger und Komponisten Phelan Burgoyne\, aktuell aus Florenz und der K
 ontrabassistin Lisa Hoppe aus Berlin\, entfalten sich Ventlings Kompositio
 nen behutsam\, originell und zugänglich. Das Zusammenspiel des Trios zeugt
  vom gegenseitigen Vertrauen\, ist flüssig und verspielt zugleich. So offe
 nbart sich die Kunstfertigkeit und Individualität jedes Bandmitglieds: sch
 arfe Interaktion\, kontinuierliche Gestaltung des Augenblicks\, Risikobere
 itschaft - zwischen schönen Melodien und explosiven Rhythmen. Durch ihre I
 mprovisationen wird deutlich\, dass die drei gleichermassen unverzichtbar 
 sind.\nMit seiner persönlichen Handschrift von Wärme und Erfindungsreichtu
 m\, begann das Trio als Alex' Masterprojekt am Jazzcampus Basel und tourte
  in den letzten fünf Jahren durch die Schweiz\, Neuseeland und Norwegen.\n
 Alex Ventling lebt derzeit in Basel. Nach einem kurzen Aufenthalt in New Y
 ork erhielt er ein Stipendium an dem renommierten Berklee College of Music
  in Boston\, entschied sich jedoch\, an den Jazzcampus Basel zu gehen\, wo
  er unter der Leitung von bekannten Jazzgrössen wie Mark Turner\, Jorge Ro
 ssy\, Larry Grenadier und Guillermo Klein sein Studium abschloss. Sein per
 sönlicher Stil als moderner Pianist ist geprägt durch seine raffinierten K
 ompositionen und Improvisationen.\nAlex leitet derzeit zwei Projekte\, «Al
 ex Ventling Trio» und «Alex &amp\; the Wavemakers» (Debüt-EP mit der Schwe
 izer Sängerin Yumi Ito). Als Side-Man ist er in verschiedene europäische P
 rojekte eingebunden\, wie bei Michael von der Heide\, Nju: Zone\, Yero Ric
 hard\, The Tree Brothers.\nAlex Ventling (p\, comp)\, Lisa Hoppe (db)\, Ph
 elan Burgoyne (dr)\nhttps://www.alexventling.com
DTSTART:20230309T191500Z
DTEND:20230309T191500Z
GEO:00;0
LOCATION:
ORGANIZER:
SEQUENCE:1
SUMMARY:Alex Ventling Trio
TRANSP:OPAQUE
URL:https://www.esse.bar/index.php/veranstaltungen/vergangene-veranstaltung
 en/1749-alex-ventling-trio/2023-03-09-20-15
END:VEVENT
END:VCALENDAR
