BEGIN:VCALENDAR
VERSION:2.0
PRODID:-//ESSE Musicbar Winterthur//NONSGML kigkonsult.se iCalcreator 2.41.92//
CALSCALE:GREGORIAN
METHOD:PUBLISH
UID:61303337-6330-4130-a234-303933303637
X-WR-CALNAME:iCagenda
X-WR-CALDESC:Event Management Extension for Joomla!
X-WR-RELCALID:3E26604A-50F4-4449-8B3E-E4F4932D05B5
X-WR-TIMEZONE:Europe/Zurich
BEGIN:VTIMEZONE
TZID:Europe/Zurich
TZUNTIL:20241027T010000Z
BEGIN:STANDARD
TZNAME:CET
DTSTART:20221030T030000
TZOFFSETFROM:+0200
TZOFFSETTO:+0100
RDATE:20231029T030000
END:STANDARD
BEGIN:DAYLIGHT
TZNAME:CEST
DTSTART:20220327T020000
TZOFFSETFROM:+0100
TZOFFSETTO:+0200
RDATE:20230326T020000
RDATE:20240331T020000
END:DAYLIGHT
END:VTIMEZONE
BEGIN:VEVENT
UID:37643137-3934-4839-a537-386563636535
DTSTAMP:20260419T170923Z
CATEGORIES:Jazz
CLASS:PUBLIC
DESCRIPTION;ALTREP="CID:<FFFF__=0ABBE548DFE235B58f9e8a93d@coffeebean.com>":
 «Les Mercenaires de l’Amour Fou»\, die Söldner der verrückten Liebe (Marti
 n Medimorec (mallets)\, Christian Bucher (drums) und Matthias Reinhard-DeR
 oo (bass) sind seit Jahren auf Safari. Zu dritt und manchmal mit Cats von 
 Mali\, Brasilien bis Amerika\, lassen sie alles\, was sie unterwegs erbeut
 en\, in ihren eigenen Stil einfliessen.\nMit ihrer von Jazz und freier Imp
 rovisation ausgehenden Musik verwischen sie mit Lust die Grenzen auch zu a
 nderen Sparten. Aus ihrem Fundus haben «Les M’delA’Fou» nun Musik für glei
 ch drei Alben geschöpft. «Suntowers»\, «Filouettes» und «Gallant Gamblings
 » bilden zugleich eine Trilogie und ein Spiegelbild des Trios und seines S
 chaffens. Zur Feier dieser Alben bietet die ESSE Bar einmal mehr die wie g
 ewünschte Bühne.\nMartin Medimorec (mallets)\, Matthias Reinhard-DeRoo (db
 )\, Christian Bucher (dr)\nhttps://www.lesmercenairesdelamourfou.com
DTSTART:20230310T191500Z
DTEND:20230310T191500Z
GEO:00;0
LOCATION:
ORGANIZER:
SEQUENCE:1
SUMMARY:Les Mercenaires de l’Amour Fou - Trilogie
TRANSP:OPAQUE
URL:https://www.esse.bar/index.php/veranstaltungen/vergangene-veranstaltung
 en/1750-tba-44/2023-03-10-20-15
END:VEVENT
END:VCALENDAR
