BEGIN:VCALENDAR
VERSION:2.0
PRODID:-//ESSE Musicbar Winterthur//NONSGML kigkonsult.se iCalcreator 2.41.92//
CALSCALE:GREGORIAN
METHOD:PUBLISH
UID:35373661-6361-4731-a137-623864326633
X-WR-CALNAME:iCagenda
X-WR-CALDESC:Event Management Extension for Joomla!
X-WR-RELCALID:3E26604A-50F4-4449-8B3E-E4F4932D05B5
X-WR-TIMEZONE:Europe/Zurich
BEGIN:VTIMEZONE
TZID:Europe/Zurich
TZUNTIL:20241027T010000Z
BEGIN:STANDARD
TZNAME:CET
DTSTART:20221030T030000
TZOFFSETFROM:+0200
TZOFFSETTO:+0100
RDATE:20231029T030000
END:STANDARD
BEGIN:DAYLIGHT
TZNAME:CEST
DTSTART:20220327T020000
TZOFFSETFROM:+0100
TZOFFSETTO:+0200
RDATE:20230326T020000
RDATE:20240331T020000
END:DAYLIGHT
END:VTIMEZONE
BEGIN:VEVENT
UID:66653463-3365-4139-a562-306433396537
DTSTAMP:20260419T163941Z
CATEGORIES:Jazz
CLASS:PUBLIC
DESCRIPTION;ALTREP="CID:<FFFF__=0ABBE548DFE235B58f9e8a93d@coffeebean.com>":
 «Fragile Miniaturen entwickeln sich zu orchestralen Soundscapes und finden
  wiederum in kantigen Riffs zusammen.»\nDas «Driftwood Quartet» spielt Con
 temporary-Jazz mit einer Prise Rock. Die Band bewegt sich im Spannungsfeld
  zwischen melodischer Komposition und leidenschaftlicher Improvisation und
  spielt Songs\, die im Ohr hängen bleiben. Es öffnen sich mitreissende mus
 ikalische Welten\, welche das Publikum abtauchen lassen.\nDas «Driftwood Q
 uartet» ist das Contemporary-Jazz Ensemble des Zürcher Gitarristen und Kom
 ponisten Joa Frey. Die Band nimmt ihren Ursprung im Duo mit Jeanaine Oesch
  an Kontrabass und Vocals. Zwischen 2019 und 2022 erweiterte sich die Kons
 tellation um Samir Böhringer am Schlagzeug und schliesslich Marina Iten am
  Altsaxophon.\nDie Entwicklung der Band zeichnet einen steten Weg vom Priv
 aten ins Öffentliche. Von intimen Aufnahmen aus dem Wohnzimmer\, hin zur «
 Barn Session»\, einer 2020 entstandenen Live-Performance in einem alten Ba
 uernhaus\, bis hin zu mehreren Konzerten von Kreuzlingen bis Basel. Im Okt
 ober 2023 wird das Debütalbum veröffentlicht.\nMarina Iten (as)\, Joa Frey
  (g\, voc\, comp)\, Jeanaine Oesch (db\, voc)\, Samir Böhringer (dr)\nhttp
 s://www.joafrey.com
DTSTART:20230316T191500Z
DTEND:20230316T191500Z
GEO:00;0
LOCATION:
ORGANIZER:
SEQUENCE:1
SUMMARY:Driftwood Quartet
TRANSP:OPAQUE
URL:https://www.esse.bar/index.php/veranstaltungen/vergangene-veranstaltung
 en/1754-tba-46/2023-03-16-20-15
END:VEVENT
END:VCALENDAR
