BEGIN:VCALENDAR
VERSION:2.0
PRODID:-//ESSE Musicbar Winterthur//NONSGML kigkonsult.se iCalcreator 2.41.92//
CALSCALE:GREGORIAN
METHOD:PUBLISH
UID:33373234-3265-4335-a638-373239376564
X-WR-CALNAME:iCagenda
X-WR-CALDESC:Event Management Extension for Joomla!
X-WR-RELCALID:3E26604A-50F4-4449-8B3E-E4F4932D05B5
X-WR-TIMEZONE:Europe/Zurich
BEGIN:VTIMEZONE
TZID:Europe/Zurich
TZUNTIL:20241027T010000Z
BEGIN:STANDARD
TZNAME:CET
DTSTART:20221030T030000
TZOFFSETFROM:+0200
TZOFFSETTO:+0100
RDATE:20231029T030000
END:STANDARD
BEGIN:DAYLIGHT
TZNAME:CEST
DTSTART:20220327T020000
TZOFFSETFROM:+0100
TZOFFSETTO:+0200
RDATE:20230326T020000
RDATE:20240331T020000
END:DAYLIGHT
END:VTIMEZONE
BEGIN:VEVENT
UID:39336237-3061-4635-b639-643264316465
DTSTAMP:20260419T164742Z
CATEGORIES:Jazz
CLASS:PUBLIC
DESCRIPTION;ALTREP="CID:<FFFF__=0ABBE548DFE235B58f9e8a93d@coffeebean.com>":
 Eleganter Swing-\, Bebop- und Hardbob: Der Basler Bassist Dominik Schürman
 n stellt seine internationale Wunschband vor.\nEin weiser Mann sagte einma
 l\, es ist egal\, wohin der Jazz geht\, solange er die Tradition mitnimmt.
  Ein Künstler\, der dieses Konzept gut versteht\, ist der Kontrabassist Do
 minik Schürmann. Er ist eine feste Grösse in der Schweizer Jazzszene\, sow
 ohl als Side-Man als auch als Leader. In seiner vielseitigen Karriere hat 
 Schürmann in Theater- und Musicalproduktionen mitgewirkt\, ist im Schweize
 r Fernsehen und Radio aufgetreten und hat als Begleitmusiker an über 50 CD
 -Produktionen mitgewirkt. Auf seinem neuen eigenen Album «Moons Ago» präse
 ntiert er 12 Eigenkompositionen\, die stilistisch eine Hommage an die Jazz
 legenden der 50er und 60er Jahre darstellen.\nFür dieses Aufnahmeprojekt h
 aben sich vier Seelenverwandte aus ganz Europa zusammengefunden. Die Prota
 gonisten stammen aus der Schweiz\, Italien und Lettland. Der italienische 
 Saxophonist Max Ionata ist nicht nur einer der gefragtesten Tenorsaxophoni
 sten Italiens\, sondern hat auch international ein grosses Rennomee erreic
 ht. In Japan beispielsweise ist er ein häufiger und gern gesehener Gast. D
 ies nicht zuletzt dank seinem melodiösen und geschmackvollen Saxophonspiel
  und dem vollen warmen Sound.\nSeine mehrfach mit Preisen ausgezeichneten 
 Mitmusiker Yuri Storione (Piano) und Jãnis Jaunalksnis (Schlagzeug) stehen
  ihm in nichts nach: Sie teilen mit ihm die Vorliebe für einen stabilen Gr
 oove\, einen unerschütterlichen Swing\, starke Melodien und eine fein gedr
 echselte Harmonik – ganz in der Tradition der Swing-\, Bebop- und Hardbop-
 Ära. Dies steht denn auch im Zentrum ihres Live-Auftritts\, in den sie in 
 variantenfrohen und stimmigen Eigenkompositionen Dominik Schürmanns und St
 andards unterschiedliche stilistische Einflüsse und Rhythmen einbringen. D
 abei sorgt das Quartett für einen ganz speziellen\, einnehmenden und nachh
 allenden Sound.\nhttps://youtu.be/a1LiAUy4NWYhttps://youtu.be/4aNWeIfKcpI
 \nMax Ionata (Italien): Tenor SaxophonYuri Storione (Italien): PianoDomini
 k Schürmann (Schweiz): BassJãnis Jaunalksnis (Lettland): Drums\nwww.domini
 kschuermann.chwww.maxionata.com www.yuristorione.com
DTSTART:20230317T191500Z
DTEND:20230317T191500Z
GEO:00;0
LOCATION:
ORGANIZER:
SEQUENCE:1
SUMMARY:Dominik Schürmann Trio feat. Max Ionata – «Moons Ago»
TRANSP:OPAQUE
URL:https://www.esse.bar/index.php/veranstaltungen/vergangene-veranstaltung
 en/1755-dominik-schuermann-trio-feat-max-ionata/2023-03-17-20-15
END:VEVENT
END:VCALENDAR
