BEGIN:VCALENDAR
VERSION:2.0
PRODID:-//ESSE Musicbar Winterthur//NONSGML kigkonsult.se iCalcreator 2.41.92//
CALSCALE:GREGORIAN
METHOD:PUBLISH
UID:32373131-3939-4533-b836-663736636637
X-WR-CALNAME:iCagenda
X-WR-CALDESC:Event Management Extension for Joomla!
X-WR-RELCALID:3E26604A-50F4-4449-8B3E-E4F4932D05B5
X-WR-TIMEZONE:Europe/Zurich
BEGIN:VTIMEZONE
TZID:Europe/Zurich
TZUNTIL:20241027T010000Z
BEGIN:STANDARD
TZNAME:CET
DTSTART:20221030T030000
TZOFFSETFROM:+0200
TZOFFSETTO:+0100
RDATE:20231029T030000
END:STANDARD
BEGIN:DAYLIGHT
TZNAME:CEST
DTSTART:20220327T020000
TZOFFSETFROM:+0100
TZOFFSETTO:+0200
RDATE:20230326T020000
RDATE:20240331T020000
END:DAYLIGHT
END:VTIMEZONE
BEGIN:VEVENT
UID:38343463-3961-4762-b033-353633326635
DTSTAMP:20260419T163942Z
CATEGORIES:Folk & More
CLASS:PUBLIC
DESCRIPTION;ALTREP="CID:<FFFF__=0ABBE548DFE235B58f9e8a93d@coffeebean.com>":
 Zugegeben\, Beth Wimmer braucht dem ESSE-Publikum wohl kaum mehr vorgestel
 lt zu werden. Aber trotzdem und vielleicht für diejenigen\, die sich erst 
 später zugeschaltet haben: Geboren in New York und aufgewachsen im ländlic
 hen Massachusetts\, entdeckte Beth Wimmer schon früh ihre Liebe zu der Mus
 ik\, die man heute gemeinhin als «Americana» bezeichnet. Mit 18 Jahren zog
  die junge Künstlerin in den pulsierenden musikalischen Schmelztiegel Südk
 alifornien\, wo ihr Talent und ihre Ausstrahlung von Live- und Session-Mus
 ikern\, die u.a. mit Jackson Browne\, Lucinda Williams\, Bonnie Raitt und 
 Eric Burdon gespielt haben\, entdeckt und gefördert wurden. Seit vierzehn 
 Jahren lebt Beth Wimmer in der Schweiz\, wohin sie ein einmonatiges Solo-E
 ngagement in St. Moritz geführt hatte\, und hat sich hier als Singer/Songw
 riterin endgültig und eigenständig etabliert.\nDie Songs von Beth Wimmer e
 rzählen aus dem reichen Fundus ihrer Geschichte\, in ihrer unvergleichlich
  authentischen und feinfühligen Art gibt sie dem Publikum mit jedem Song E
 inblick in ihre Träume\, Beobachtungen und Gefühle. Sie ist bereits auf ei
 nigen der renommiertesten Bühnen des Landes aufgetreten - Montreux Jazz Fe
 stival\, Atlantis Basel\, Mahogany Hall\, Paléo Clubhouse - und hat mit ih
 rer Bühnenpräsenz und ihren Songs sowohl das Publikum als auch die Musikwe
 lt überzeugt.\nBeth Wimmer (voc\, g\, comp)\, Mike Bischoff (g\, voc)\, Ro
 drigo Aravena (b)\, Jost Müller (dr\, perc)\nVideo: Beth Wimmer &amp\; Ban
 d\, Montreux Jazz Festival\, Song-Montage: https://youtu.be/p932RfuOKrQ\nh
 ttps://bethwimmer.com
DTSTART:20230319T183000Z
DTEND:20230319T183000Z
GEO:00;0
LOCATION:
ORGANIZER:
SEQUENCE:1
SUMMARY:Beth Wimmer Band
TRANSP:OPAQUE
URL:https://www.esse.bar/index.php/veranstaltungen/vergangene-veranstaltung
 en/1756-beth-wimmer-band/2023-03-19-19-30
END:VEVENT
END:VCALENDAR
