BEGIN:VCALENDAR
VERSION:2.0
PRODID:-//ESSE Musicbar Winterthur//NONSGML kigkonsult.se iCalcreator 2.41.92//
CALSCALE:GREGORIAN
METHOD:PUBLISH
UID:37356234-6537-4366-b335-353735613262
X-WR-CALNAME:iCagenda
X-WR-CALDESC:Event Management Extension for Joomla!
X-WR-RELCALID:3E26604A-50F4-4449-8B3E-E4F4932D05B5
X-WR-TIMEZONE:Europe/Zurich
BEGIN:VTIMEZONE
TZID:Europe/Zurich
TZUNTIL:20241027T010000Z
BEGIN:STANDARD
TZNAME:CET
DTSTART:20221030T030000
TZOFFSETFROM:+0200
TZOFFSETTO:+0100
RDATE:20231029T030000
END:STANDARD
BEGIN:DAYLIGHT
TZNAME:CEST
DTSTART:20220327T020000
TZOFFSETFROM:+0100
TZOFFSETTO:+0200
RDATE:20230326T020000
RDATE:20240331T020000
END:DAYLIGHT
END:VTIMEZONE
BEGIN:VEVENT
UID:35373562-3839-4030-b262-623764383266
DTSTAMP:20260419T150959Z
CATEGORIES:Jazz
CLASS:PUBLIC
DESCRIPTION;ALTREP="CID:<FFFF__=0ABBE548DFE235B58f9e8a93d@coffeebean.com>":
 «Dieses Album ist ein Glücksfall. Jochen Baldes und Franz Hellmüller als C
 o-Leader der Band «Bloom-Effect» schaffen die Quadratur des Kreises. Die M
 usik\, die sie mit Patrick Sommer und Tony Renold eingespielt haben\, ist 
 gleichzeitig anspruchsvoll und unmittelbar sinnlich. Im Spannungsfeld von 
 Form und Freiheit entfaltet sie sich. Als Teamplayer wie als virtuose Soli
 sten spielen die Musiker Jazz von zeitloser Frische.» Manfred Papst\, NZZ 
 am Sonntag\nMusik als Roadmovie: Film für Kopf\, Herz und Seele. Musik die
  einen nicht mehr loslässt\, die einen lachen und staunen\, sich bewegen u
 nd träumen lässt. Wie bei Miles Davis\, der über sein Album «Filles de Kil
 imanjaro» sagte: eine Lightshow für Blinde. Vier Musiker spannen einen mus
 ikalischen Bogen\, der Spannung und Entspannung\, Stille und Hektik\, schö
 nste Melodielinien und abrupte Brüche zulässt.\nJeden Abend aufs Neue das 
 Ungewohnte wagen und sich ohne Fallnetz auf eine parforce Tour begeben - d
 as ist die Kraft der Musik. Das Publikum folgt gebannt dem Geschehen und i
 st freudvoll überrascht welche Wege die musikalische Reise nimmt - Destina
 tion unknown. Eine glückliche Fügung des Zusammenkommens zweier Bandleader
 \, die ihre Kräfte bündeln und zusammen mit ihren Mitstreitern ungeahnte B
 ereiche der Musik betreten und diese lustvoll bearbeiten. Alle vier Musike
 r spielen seit Jahren in den verschiedensten Konstellationen zusammen und 
 haben so eine musikalische Sprache entwickelt die blindes Vertrauen voraus
 setzt\, musikalische Volten begünstigt und Freiheit im besten Sinne auf de
 r Bühne erfahren lässt.\nJochen Baldes (s)\, Franz Hellmüller (g)\, Patric
 k Sommer (db)\, Tony Renold (dr)\nhttp://bloom-effect.ch
DTSTART:20230323T191500Z
DTEND:20230323T191500Z
GEO:00;0
LOCATION:
ORGANIZER:
SEQUENCE:1
SUMMARY:Bloom Effect – «A lightshow for the blind»
TRANSP:OPAQUE
URL:https://www.esse.bar/index.php/veranstaltungen/vergangene-veranstaltung
 en/1757-jochen-baldes-bloom-effect/2023-03-23-20-15
END:VEVENT
END:VCALENDAR
