BEGIN:VCALENDAR
VERSION:2.0
PRODID:-//ESSE Musicbar Winterthur//NONSGML kigkonsult.se iCalcreator 2.41.92//
CALSCALE:GREGORIAN
METHOD:PUBLISH
UID:33646631-3834-4533-a435-353863323138
X-WR-CALNAME:iCagenda
X-WR-CALDESC:Event Management Extension for Joomla!
X-WR-RELCALID:3E26604A-50F4-4449-8B3E-E4F4932D05B5
X-WR-TIMEZONE:Europe/Zurich
BEGIN:VTIMEZONE
TZID:Europe/Zurich
TZUNTIL:20241027T010000Z
BEGIN:STANDARD
TZNAME:CET
DTSTART:20221030T030000
TZOFFSETFROM:+0200
TZOFFSETTO:+0100
RDATE:20231029T030000
END:STANDARD
BEGIN:DAYLIGHT
TZNAME:CEST
DTSTART:20220327T020000
TZOFFSETFROM:+0100
TZOFFSETTO:+0200
RDATE:20230326T020000
RDATE:20240331T020000
END:DAYLIGHT
END:VTIMEZONE
BEGIN:VEVENT
UID:61396331-6664-4866-b065-313564653835
DTSTAMP:20260419T163648Z
CATEGORIES:Folk & More
CLASS:PUBLIC
DESCRIPTION;ALTREP="CID:<FFFF__=0ABBE548DFE235B58f9e8a93d@coffeebean.com>":
 «CelloFon sind vier Leute\, von denen drei die Fiedel knechten\, und zwar 
 zwei die Bassfiedel und einer noch viel Bässer. Am besten aber ist\, dass 
 der vierte die Fiedelei mit Perkussion aufmischt!»\nDas Programm von «Cell
 oFon» besteht vor allem aus Rock- und Blues-Stücken wie «As Tears Go By» (
 Rolling Stones)\, «Purple Haze» (Jimi Hendrix) oder «Bohemian Rhapsody» (Q
 ueen).  Aber allzu eng sieht «CelloFon» seine Stilrichtung nicht begrenzt\
 , und mit «Comes A Time» von Neil Young lässt sich ein Stück Country-Folk-
 Rock hören\, mit «1 nach 9» aus der Feder von Wilfried Hesse fegt ein Jazz
 -Stück im 10er-Takt daher. Plötzlich schaut Beethoven um die Ecke\, runzel
 t ein wenig die Stirn und muss dann aber wieder Platz machen für Nina Simo
 nes «My Baby Just Cares For Me». Wie auch immer man die Musik von «CelloFo
 n» beschreiben will\, auf jeden Fall wünschen wir allen Zuhörerinnen und Z
 uhörern ein vergnügliches Lauschen!\nWilfried Hesse (Cello\, Gesang)\, Sab
 ine von Werra (Cello)\, Geri Zumbrunn (Kontrabass)\, Niklaus Kunz (Schlagz
 eug\, Perkussion)\nwww.cellofon.ch
DTSTART:20230129T183000Z
DTEND:20230129T183000Z
GEO:00;0
LOCATION:
ORGANIZER:
SEQUENCE:1
SUMMARY:CelloFon
TRANSP:OPAQUE
URL:https://www.esse.bar/index.php/veranstaltungen/vergangene-veranstaltung
 en/1762-1252-cellofon-2/2023-01-29-19-30
END:VEVENT
END:VCALENDAR
