BEGIN:VCALENDAR
VERSION:2.0
PRODID:-//ESSE Musicbar Winterthur//NONSGML kigkonsult.se iCalcreator 2.41.92//
CALSCALE:GREGORIAN
METHOD:PUBLISH
UID:31396136-6435-4433-a533-336364303432
X-WR-CALNAME:iCagenda
X-WR-CALDESC:Event Management Extension for Joomla!
X-WR-RELCALID:3E26604A-50F4-4449-8B3E-E4F4932D05B5
X-WR-TIMEZONE:Europe/Zurich
BEGIN:VTIMEZONE
TZID:Europe/Zurich
TZUNTIL:20241027T010000Z
BEGIN:STANDARD
TZNAME:CET
DTSTART:20221030T030000
TZOFFSETFROM:+0200
TZOFFSETTO:+0100
RDATE:20231029T030000
END:STANDARD
BEGIN:DAYLIGHT
TZNAME:CEST
DTSTART:20230326T020000
TZOFFSETFROM:+0100
TZOFFSETTO:+0200
RDATE:20240331T020000
END:DAYLIGHT
END:VTIMEZONE
BEGIN:VEVENT
UID:30623432-6535-4635-b630-396363343064
DTSTAMP:20260419T151642Z
CATEGORIES:Jazz
CLASS:PUBLIC
DESCRIPTION;ALTREP="CID:<FFFF__=0ABBE548DFE235B58f9e8a93d@coffeebean.com>":
 Eigentlich müsste es ja heissen: «Lily Horn Is Re-Born». Zwischen 2000 und
  2007 spielten die vier Saxophonistinnen zahlreiche Konzerte in der Schwei
 z\, in Europa und sogar in Japan. Diese mit viel Herzblut unterlegte Konti
 nuität beflügelte das Quartett zu charmanten und witzigen Improvisationen 
 innerhalb ihrer Eigenkompositionen und Arrangements.\nUnd jetzt? Aus dem N
 ichts tauchte Lily wieder auf und stand plötzlich da. Mit Getöse und Gepol
 ter – und stolzer Eleganz zugleich. Lily lebt auf der West-Ost-Achse der S
 chweiz\, tänzelt in Bern\, hüpft in Olten\, dreht Pirouetten in Zürich. Un
 d musizieren tut Lily – Potzdonner! Wie das Nebelhorn der Blüemlisalp\, da
 s Röhren der Hirsche\, das Johlen der Betrunkenen\, das Wimmern der Verlas
 senen\, das Lächeln der Zufriedenen. Im Glitzern des Morgens\, bis zur Hei
 serkeit des Abends.\nNie hält Lily still\, nein\, Lily denkt nach\, sucht\
 , erfindet\, erdichtet\, komponiert\, arrangiert – stolpert hin und wieder
 \, steht auf und geht weiter. Lily probiert aus\, sucht neue Herausforderu
 ngen und Farben\, findet in Helen Iten eine Verbündete. Lily erinnert sich
  an die zu früh verstorbene Pianistin\, Komponistin und Freundin Eliane Cu
 eni und lässt ihre Songs weiterklingen.\nHelen Iten (voc)\, Annette Kitaga
 wa (as\, ss\, cl\, arr)\, Susanne Müller (as\, ss)\, Fabienne Hoerni (ts)\
 , Lisette Wyss (bar\, bcl\, arr)\nwww.lilyhorn.ch
DTSTART:20230406T181500Z
DTEND:20230406T181500Z
GEO:00;0
LOCATION:
ORGANIZER:
SEQUENCE:1
SUMMARY:Lily Horn Is Born feat. Helen Iten
TRANSP:OPAQUE
URL:https://www.esse.bar/index.php/veranstaltungen/vergangene-veranstaltung
 en/1765-lily-horn-is-born-feat-helen-iten/2023-04-06-20-15
END:VEVENT
END:VCALENDAR
