BEGIN:VCALENDAR
VERSION:2.0
PRODID:-//ESSE Musicbar Winterthur//NONSGML kigkonsult.se iCalcreator 2.41.92//
CALSCALE:GREGORIAN
METHOD:PUBLISH
UID:30643134-6234-4463-b534-343661313734
X-WR-CALNAME:iCagenda
X-WR-CALDESC:Event Management Extension for Joomla!
X-WR-RELCALID:3E26604A-50F4-4449-8B3E-E4F4932D05B5
X-WR-TIMEZONE:Europe/Zurich
BEGIN:VTIMEZONE
TZID:Europe/Zurich
TZUNTIL:20241027T010000Z
BEGIN:STANDARD
TZNAME:CET
DTSTART:20221030T030000
TZOFFSETFROM:+0200
TZOFFSETTO:+0100
RDATE:20231029T030000
END:STANDARD
BEGIN:DAYLIGHT
TZNAME:CEST
DTSTART:20230326T020000
TZOFFSETFROM:+0100
TZOFFSETTO:+0200
RDATE:20240331T020000
END:DAYLIGHT
END:VTIMEZONE
BEGIN:VEVENT
UID:63633835-6239-4762-b763-363061326135
DTSTAMP:20260419T150946Z
CATEGORIES:Party
CLASS:PUBLIC
DESCRIPTION;ALTREP="CID:<FFFF__=0ABBE548DFE235B58f9e8a93d@coffeebean.com>":
 Eine Veranstaltung des Vereins «Let’s dance 45».\nLiebe Let's Dancer\nWir 
 legen wieder in der ESSE MUSICBAR heisse Platten aus den 50er bis 80er Jah
 ren auf. Viel Unbekanntes kommt neben bekannten Melodien und Ohrwürmer auf
  die Plattenteller\, alles Musik\, die euch in Bewegung setzen wird und zu
 m Tanzen animiert.\nZusammen mit dem ESSE-TEAM freuen wir uns riesig auf v
 iele Tanzbegeisterte\, die Lust auf unsere Musik und die Ambience der ESSE
  MUSIKBAR haben. Die Bar ist wie gewohnt schon ab 17 Uhr offen und bietet 
 ihre Snacks und Drinks an.\nAuf zahlreiches Wiedersehen freuen sich Jochen
 \, Rolf und Stefan und das ESSE Musicbar-Team.\nEintritt CHF 20.– | Reduzi
 ertes Sitzplatzangebot | keine Platzreservation
DTSTART:20230401T180000Z
DTEND:20230401T180000Z
GEO:00;0
LOCATION:
ORGANIZER:
SEQUENCE:1
SUMMARY:Let's dance 45
TRANSP:OPAQUE
URL:https://www.esse.bar/index.php/veranstaltungen/vergangene-veranstaltung
 en/1778-let-s-dance-64/2023-04-01-20-00
END:VEVENT
END:VCALENDAR
