BEGIN:VCALENDAR
VERSION:2.0
PRODID:-//ESSE Musicbar Winterthur//NONSGML kigkonsult.se iCalcreator 2.41.92//
CALSCALE:GREGORIAN
METHOD:PUBLISH
UID:61333736-6137-4233-b561-383030643365
X-WR-CALNAME:iCagenda
X-WR-CALDESC:Event Management Extension for Joomla!
X-WR-RELCALID:3E26604A-50F4-4449-8B3E-E4F4932D05B5
X-WR-TIMEZONE:Europe/Zurich
BEGIN:VTIMEZONE
TZID:Europe/Zurich
TZUNTIL:20241027T010000Z
BEGIN:STANDARD
TZNAME:CET
DTSTART:20221030T030000
TZOFFSETFROM:+0200
TZOFFSETTO:+0100
RDATE:20231029T030000
END:STANDARD
BEGIN:DAYLIGHT
TZNAME:CEST
DTSTART:20230326T020000
TZOFFSETFROM:+0100
TZOFFSETTO:+0200
RDATE:20240331T020000
END:DAYLIGHT
END:VTIMEZONE
BEGIN:VEVENT
UID:35626665-6561-4032-b463-316130633061
DTSTAMP:20260419T151245Z
CATEGORIES:Spezial-Anlass mit Eintritt
CLASS:PUBLIC
DESCRIPTION;ALTREP="CID:<FFFF__=0ABBE548DFE235B58f9e8a93d@coffeebean.com>":
 Spezialkonzert mit Eintritt: 45.– / Member &amp\; Gönner 40.–\nRichard Koe
 chlis Musik kennen viele\, ohne es zu wissen. Mit seiner Gitarre veredelte
  der Swiss Blues Award-Gewinner den Erfolgsfilm «Der Goalie bin ig» genaus
 o wie Songs von Schweizer Grössen wie Blues Max oder Polo Hofer. Koechli a
 rbeitet seit über 30 Jahren als professioneller Gitarrist\, Singer/Songwri
 ter und Buchautor.\nMit seinen Alben beweist der Roots-Musiker respektvoll
  seine Liebe zu den Wurzeln des Blues &amp\; Folk – und erhielt dafür 2013
  den renommierten SWISS BLUES AWARD. Seine Filmmusik zum besagten «Der Goa
 lie bin ig» wurde 2014 mit dem SCHWEIZER FILMPREIS (Beste Filmmusik) ausge
 zeichnet\, und 2016 wurde der Innerschweizer für den PRIX WALO in der Spar
 te Jazz/Blues nominiert.\n2020 toppte Richard Köchli sein Schaffen mit dem
  Album «The Real Chill\, Remembering J.J. Cale» – released am 25. Septembe
 r\, in einer Deluxe Edition und kostenlos (!) dazu sein Buch «J.J. Cale\, 
 der stille Meister» (edle Hardcover-Ausgabe als Beilage zur CD).\nSeine ko
 ntrastreiche Musik enthält auch Spuren von Soul\, Jazz\, Folk\, Rock und P
 op. Und da ist noch seine Liebe zur französischen Sprache\, die er hin und
  wieder aufblitzen lässt\; seine Mutter ist Französin\, seine Lebenspartne
 rin ebenfalls. Und Koechli lebt seit 20 Jahren teilweise in Frankreich.\nM
 it jedem Auftritt beweist Richard Koechli\, dass er jede Blues-Seele mit s
 einem leidenschaftlichen Gitarrenspiel\, das tief in der Bluestradition ve
 rwurzelt ist\, zum Schwingen bringt. Wären da nicht auch mal Mundart oder 
 französische Texte\, kaum jemand würde vermuten\, dass hier ein Schweizer 
 so bestechend die Sounds aus dem Ursprungsland des Blues zelebriert. Im in
 timen Zusammenspiel mit seinen hochkarätigen Mitmusikern zelebriert das Tr
 io auf der Bühne die Magie des Augenblicks\, virtuos und voller Leidenscha
 ft.\nRichard Köchli (g\, voc)\, Michael Dolmetsch (keyb\, p\, bvoc)\, Faus
 to Medici (dr)\nhttps://www.richardkoechli.ch/de/
DTSTART:20230415T181500Z
DTEND:20230415T181500Z
GEO:00;0
LOCATION:
ORGANIZER:
SEQUENCE:1
SUMMARY:Richard Koechli & Blue Roots Company
TRANSP:OPAQUE
URL:https://www.esse.bar/index.php/veranstaltungen/vergangene-veranstaltung
 en/1779-richard-koechli/2023-04-15-20-15
END:VEVENT
END:VCALENDAR
